BEGIN:VCALENDAR
VERSION:2.0
PRODID:-//Tidemark Theatre - ECPv6.15.20//NONSGML v1.0//EN
CALSCALE:GREGORIAN
METHOD:PUBLISH
X-WR-CALNAME:Tidemark Theatre
X-ORIGINAL-URL:https://tidemarktheatre.com
X-WR-CALDESC:Events for Tidemark Theatre
REFRESH-INTERVAL;VALUE=DURATION:PT1H
X-Robots-Tag:noindex
X-PUBLISHED-TTL:PT1H
BEGIN:VTIMEZONE
TZID:America/Vancouver
BEGIN:DAYLIGHT
TZOFFSETFROM:-0800
TZOFFSETTO:-0700
TZNAME:PDT
DTSTART:20250309T100000
END:DAYLIGHT
BEGIN:STANDARD
TZOFFSETFROM:-0700
TZOFFSETTO:-0800
TZNAME:PST
DTSTART:20251102T090000
END:STANDARD
BEGIN:DAYLIGHT
TZOFFSETFROM:-0800
TZOFFSETTO:-0700
TZNAME:PDT
DTSTART:20260308T100000
END:DAYLIGHT
BEGIN:STANDARD
TZOFFSETFROM:-0700
TZOFFSETTO:-0800
TZNAME:PST
DTSTART:20261101T090000
END:STANDARD
BEGIN:DAYLIGHT
TZOFFSETFROM:-0800
TZOFFSETTO:-0700
TZNAME:PDT
DTSTART:20270314T100000
END:DAYLIGHT
BEGIN:STANDARD
TZOFFSETFROM:-0700
TZOFFSETTO:-0800
TZNAME:PST
DTSTART:20271107T090000
END:STANDARD
END:VTIMEZONE
BEGIN:VEVENT
DTSTART;TZID=America/Vancouver:20260423T190000
DTEND;TZID=America/Vancouver:20260423T210000
DTSTAMP:20260423T024214
CREATED:20260213T223840Z
LAST-MODIFIED:20260213T223840Z
UID:12491-1776970800-1776978000@tidemarktheatre.com
SUMMARY:Something Rotten
DESCRIPTION:Welcome to the Renaissance—and to the outrageous\, crowd-pleasing musical farce Something Rotten! Created by Grammy Award-winning songwriter Wayne Kirkpatrick and acclaimed screenwriters Karey Kirkpatrick and John O’Farrell\, Something Rotten! is one of the funniest and most inventive musicals to hit the stage. \nSet in the 1590s\, brothers Nick and Nigel Bottom are desperate to write a hit play\, but they find themselves living in the long shadow of the ultimate Renaissance rock star: William Shakespeare. When a local soothsayer predicts that the future of theatre will involve singing\, dancing\, and acting all at the same time\, the Bottom brothers set out to create the world’s very first musical. As opening night approaches and chaos ensues\, Nick and Nigel discover that success comes not from rivalry\, but from learning to be “true to thine own self.” \nPacked with show-stopping song and dance numbers and a wildly comedic cast of over-the-top characters\, Something Rotten! gives everyone a moment to shine. During its Broadway run\, audiences were so thrilled they gave a standing ovation at the start of the first act! With its infectious energy and clever humor\, it proves that “nothing’s as amazing as a musical.” Don’t miss your chance to experience this laugh-out-loud theatrical triumph. \nDirected by Christine Knight\, Choral Direction by Jennifer Abbott and Vocal Coaching by Amy Lelliott. \nTickets: $20.00 Admission (+applicable taxes and fees)
URL:https://tidemarktheatre.com/event/something-rotten-2/
LOCATION:Tidemark Theatre\, 1220 Shoppers Row\, Campbell River\, BC\, V9W 2C8\, Canada
CATEGORIES:At the Tidemark
ATTACH;FMTTYPE=image/jpeg:https://tidemarktheatre.com/wp-content/uploads/2026/02/Something-Rotten-1920x1080-1.jpg
END:VEVENT
END:VCALENDAR