BEGIN:VCALENDAR
VERSION:2.0
PRODID:-//Tidemark Theatre - ECPv6.15.20//NONSGML v1.0//EN
CALSCALE:GREGORIAN
METHOD:PUBLISH
X-WR-CALNAME:Tidemark Theatre
X-ORIGINAL-URL:https://tidemarktheatre.com
X-WR-CALDESC:Events for Tidemark Theatre
REFRESH-INTERVAL;VALUE=DURATION:PT1H
X-Robots-Tag:noindex
X-PUBLISHED-TTL:PT1H
BEGIN:VTIMEZONE
TZID:UTC
BEGIN:STANDARD
TZOFFSETFROM:+0000
TZOFFSETTO:+0000
TZNAME:UTC
DTSTART:20180101T000000
END:STANDARD
END:VTIMEZONE
BEGIN:VEVENT
DTSTART;TZID=UTC:20191214T193000
DTEND;TZID=UTC:20191214T213000
DTSTAMP:20260425T202326
CREATED:20191108T034219Z
LAST-MODIFIED:20191108T034219Z
UID:3407-1576351800-1576359000@tidemarktheatre.com
SUMMARY:Kliffs
DESCRIPTION:Highway 19 Entertainment presents Kliffs! \nKliffs is the Berlin-based Canadian indie-pop duo of Mark Bérubé (guitar\, keys\, voice) and Kristina Koropecki (cello\, synths\, voice)\, joined by Montreal’s Marc-André Pételle and Hugo Chaput on bass and drums. Originally from Brandon\, Manitoba\, Bérubé’s 15+ year career has included time based in Vancouver where he was a founding member of the Fugitives and regular special guest of Dan Mangan (that’s Mark’s voice signing harmonies on Mangan’s classic Robots) and in Montreal where Koropecki first joined his band 10 years ago. The two toured together numerous times across Canada and Europe\, and eventually re-located to Berlin\, Germany in 2014. After a brief hiatus for other projects including Koropecki touring with Danish superstar Agnes Obel\, the two teamed up again in 2018 as a duo under their new name. \nKliffs are seasoned and skilled musicians and have acquired the craft of joining their instruments and their voices together to form a delicate balance in their songs. Koropecki’s classical music training and her boundless curiosity for all new sounds perfectly compliment Bérubé’s reverence of time-honoured song-craft where lyrics take centre-stage. \nA five-song self-titled EP released in April announced the newly christened-band\, but their developing sound was already evident on Bérubé’s outstanding 2013 album Russian Dolls. Kliff’s first full album  Temporary Cures will be released November 29 and featured prominently on this Canadian tour. \nTickets: $23 Admission (+applicable fees)
URL:https://tidemarktheatre.com/event/kliffs/
LOCATION:Rivercity Stage\, 1080 Hemlock St\, Campbell River\, BC\, V9W 3E4\, Canada
CATEGORIES:Off Site Events
ATTACH;FMTTYPE=image/jpeg:https://tidemarktheatre.com/wp-content/uploads/2019/11/Kliffs.jpg
END:VEVENT
END:VCALENDAR