BEGIN:VCALENDAR
VERSION:2.0
PRODID:-//Tidemark Theatre - ECPv6.15.20//NONSGML v1.0//EN
CALSCALE:GREGORIAN
METHOD:PUBLISH
X-WR-CALNAME:Tidemark Theatre
X-ORIGINAL-URL:https://tidemarktheatre.com
X-WR-CALDESC:Events for Tidemark Theatre
REFRESH-INTERVAL;VALUE=DURATION:PT1H
X-Robots-Tag:noindex
X-PUBLISHED-TTL:PT1H
BEGIN:VTIMEZONE
TZID:UTC
BEGIN:STANDARD
TZOFFSETFROM:+0000
TZOFFSETTO:+0000
TZNAME:UTC
DTSTART:20190101T000000
END:STANDARD
END:VTIMEZONE
BEGIN:VEVENT
DTSTART;TZID=UTC:20200221T193000
DTEND;TZID=UTC:20200221T213000
DTSTAMP:20260425T172220
CREATED:20190725T005442Z
LAST-MODIFIED:20190725T005442Z
UID:3246-1582313400-1582320600@tidemarktheatre.com
SUMMARY:Duo Concertante
DESCRIPTION:Canada’s premiere violin and piano ensemble\, Duo Concertante\, are partners in music and in life. Their name\, Duo Concertante\, was taken from the inscription over Beethoven’s Kreutzer Sonata\, which reads in stilo molto concertante\, implying that the two performers must be equal and dynamic voices. This notion defines Duo Concertante’s artistic relationship. The Kreutzer Sonata was the first piece the duo played when\, in 1997\, they burst into the performance world like “two packages of musical dynamite” (Halifax Chronicle-Herald). Known for the passion and brilliance of their performances\, critics have praised Nancy Dahn and Timothy Steeves’ “artistry\, poetry\, and impeccable technique” (La Scena Musicale) and “deeply integrated performances that flow naturally as if the music were being created on the spot” (Gramophone). The Duo’s busy touring schedule across North America\, Europe\, and China\, has led to performances at Wigmore Hall\, Carnegie’s Weill Recital Hall\, Roy Thomson Hall\, the National Arts Centre\, and the Forbidden City Concert Hall in Beijing. \nBased at Memorial University in St. John’s\, Nancy and Tim are energetic\, experienced teachers who have given hundreds of master classes and workshops across Canada\, in the US\, and in China. Their commitment to working with young musicians gave rise to the annual Tuckamore Chamber Music Festival\, which they founded in 2000 to bring together young chamber music performers with world-class artists and ensembles for an intensive two weeks of learning and performance. \nThey were elected Fellows to the Royal Society of Canada in 2016 and are both Research Professors at Memorial University. \nTickets: $17 Advance\, $20 At the Door\, Free for Students 16 & under (+applicable fees)
URL:https://tidemarktheatre.com/event/duo-concertante/
LOCATION:Quadra Community Centre\, 970 West Rd\, Quathiaski Cove\, BC\, V0P 1N0\, Canada
CATEGORIES:Off Site Events
ATTACH;FMTTYPE=image/jpeg:https://tidemarktheatre.com/wp-content/uploads/2019/07/Duo-Concertante-web.jpg
END:VEVENT
END:VCALENDAR