BEGIN:VCALENDAR
VERSION:2.0
PRODID:-//Tidemark Theatre - ECPv6.15.20//NONSGML v1.0//EN
CALSCALE:GREGORIAN
METHOD:PUBLISH
X-ORIGINAL-URL:https://tidemarktheatre.com
X-WR-CALDESC:Events for Tidemark Theatre
REFRESH-INTERVAL;VALUE=DURATION:PT1H
X-Robots-Tag:noindex
X-PUBLISHED-TTL:PT1H
BEGIN:VTIMEZONE
TZID:America/Vancouver
BEGIN:DAYLIGHT
TZOFFSETFROM:-0800
TZOFFSETTO:-0700
TZNAME:PDT
DTSTART:20200308T100000
END:DAYLIGHT
BEGIN:STANDARD
TZOFFSETFROM:-0700
TZOFFSETTO:-0800
TZNAME:PST
DTSTART:20201101T090000
END:STANDARD
BEGIN:DAYLIGHT
TZOFFSETFROM:-0800
TZOFFSETTO:-0700
TZNAME:PDT
DTSTART:20210314T100000
END:DAYLIGHT
BEGIN:STANDARD
TZOFFSETFROM:-0700
TZOFFSETTO:-0800
TZNAME:PST
DTSTART:20211107T090000
END:STANDARD
BEGIN:DAYLIGHT
TZOFFSETFROM:-0800
TZOFFSETTO:-0700
TZNAME:PDT
DTSTART:20220313T100000
END:DAYLIGHT
BEGIN:STANDARD
TZOFFSETFROM:-0700
TZOFFSETTO:-0800
TZNAME:PST
DTSTART:20221106T090000
END:STANDARD
END:VTIMEZONE
BEGIN:VEVENT
DTSTART;TZID=America/Vancouver:20211015T193000
DTEND;TZID=America/Vancouver:20211015T213000
DTSTAMP:20260422T050027
CREATED:20210901T170600Z
LAST-MODIFIED:20210901T170600Z
UID:4685-1634326200-1634333400@tidemarktheatre.com
SUMMARY:Nico Rhodes “The Art of Ragtime Piano”
DESCRIPTION:Pianist and composer Nico Rhodes will be taking audience members on a journey through the history and music of ragtime. Few Canadians know anything about Ragtime beyond Scott Joplin’s soundtrack to the movie ‘The Sting’. Composer and pianist Nico Rhodes takes us on an intriguing musical journey through the evolution of Ragtime from classical to contemporary\, featuring the rags of its best-known proponents and little known stars. Aside from being a very talented pianist\, Nico Rhodes is in constant demand as arranger and musical director and was honoured with the 2019 City of Nanaimo Emerging Cultural Leader Award. \nTickets: $17 Advance\, $20 At the door (+applicable taxes & fees)
URL:https://tidemarktheatre.com/event/nico-rhodes-the-art-of-ragtime-piano/
LOCATION:Quadra Community Centre\, 970 West Rd\, Quathiaski Cove\, BC\, V0P 1N0\, Canada
CATEGORIES:Off Site Events
ATTACH;FMTTYPE=image/jpeg:https://tidemarktheatre.com/wp-content/uploads/2021/09/Nico-Rhodes-web.jpg
END:VEVENT
END:VCALENDAR