BEGIN:VCALENDAR
VERSION:2.0
PRODID:-//Tidemark Theatre - ECPv6.15.20//NONSGML v1.0//EN
CALSCALE:GREGORIAN
METHOD:PUBLISH
X-WR-CALNAME:Tidemark Theatre
X-ORIGINAL-URL:https://tidemarktheatre.com
X-WR-CALDESC:Events for Tidemark Theatre
REFRESH-INTERVAL;VALUE=DURATION:PT1H
X-Robots-Tag:noindex
X-PUBLISHED-TTL:PT1H
BEGIN:VTIMEZONE
TZID:America/Vancouver
BEGIN:DAYLIGHT
TZOFFSETFROM:-0800
TZOFFSETTO:-0700
TZNAME:PDT
DTSTART:20210314T100000
END:DAYLIGHT
BEGIN:STANDARD
TZOFFSETFROM:-0700
TZOFFSETTO:-0800
TZNAME:PST
DTSTART:20211107T090000
END:STANDARD
BEGIN:DAYLIGHT
TZOFFSETFROM:-0800
TZOFFSETTO:-0700
TZNAME:PDT
DTSTART:20220313T100000
END:DAYLIGHT
BEGIN:STANDARD
TZOFFSETFROM:-0700
TZOFFSETTO:-0800
TZNAME:PST
DTSTART:20221106T090000
END:STANDARD
BEGIN:DAYLIGHT
TZOFFSETFROM:-0800
TZOFFSETTO:-0700
TZNAME:PDT
DTSTART:20230312T100000
END:DAYLIGHT
BEGIN:STANDARD
TZOFFSETFROM:-0700
TZOFFSETTO:-0800
TZNAME:PST
DTSTART:20231105T090000
END:STANDARD
END:VTIMEZONE
BEGIN:VEVENT
DTSTART;TZID=America/Vancouver:20220410T193000
DTEND;TZID=America/Vancouver:20220410T213000
DTSTAMP:20260421T194550
CREATED:20220127T224400Z
LAST-MODIFIED:20220323T230408Z
UID:5220-1649619000-1649626200@tidemarktheatre.com
SUMMARY:Big Little Lions
DESCRIPTION:Big Little Lions are an award winning duo who were born out of a collaboration that won them a JUNO Award in 2014. Since then they have been cranking out infectious folk pop songs that are jam-packed with emotion and tight harmonies that sound like the product of two people working side-by-side instead of living in different countries. \nThey have released 6 albums to date\, which have garnered them awards including the CFMA Ensemble of the Year\, Independent Music Awards Americana Single of the Year and the John Lennon Songwriting Competition Song of the Year. Their critically acclaimed music can be heard often on CBC radio and featured on shows like q and Vinyl Cafe. The duo consists of Ohio’s Paul Otten and Vancouver Island’s own Helen Austin\, both hugely prolific songwriters – their music has been placed in hundreds of movie trailers\, ads\, network TV shows and on MTV. \nThey are currently releasing a new song a month\, most of which are on some great Spotify editorial playlists. Their music has been dubbed ‘a blissful marriage of new folk and sophisticated pop’ by Mariposa Folk Festival\, and is packed with emotion and tight harmonies. \nTickets: $23 Admission (+applicable taxes & fees)\, children 12 and under free with a paying adult \n*Teen tickets available for $5 by emailing hwy19concerts@gmail.com \nSupported by the Government of Canada and FACTOR\, the Government of BC and BC Touring Council. \nAs per Provincial Health Orders\, all patrons 12 and over are required to show proof of vaccination\, and must wear a mask at all times\, except when actively eating or drinking.
URL:https://tidemarktheatre.com/event/big-little-lions/
LOCATION:Rivercity Stage\, 1080 Hemlock St\, Campbell River\, BC\, V9W 3E4\, Canada
CATEGORIES:Off Site Events
ATTACH;FMTTYPE=image/jpeg:https://tidemarktheatre.com/wp-content/uploads/2022/01/Big-Little-Lions-website-new.jpg
END:VEVENT
END:VCALENDAR