BEGIN:VCALENDAR
VERSION:2.0
PRODID:-//Tidemark Theatre - ECPv6.15.20//NONSGML v1.0//EN
CALSCALE:GREGORIAN
METHOD:PUBLISH
X-ORIGINAL-URL:https://tidemarktheatre.com
X-WR-CALDESC:Events for Tidemark Theatre
REFRESH-INTERVAL;VALUE=DURATION:PT1H
X-Robots-Tag:noindex
X-PUBLISHED-TTL:PT1H
BEGIN:VTIMEZONE
TZID:America/Vancouver
BEGIN:DAYLIGHT
TZOFFSETFROM:-0800
TZOFFSETTO:-0700
TZNAME:PDT
DTSTART:20210314T100000
END:DAYLIGHT
BEGIN:STANDARD
TZOFFSETFROM:-0700
TZOFFSETTO:-0800
TZNAME:PST
DTSTART:20211107T090000
END:STANDARD
BEGIN:DAYLIGHT
TZOFFSETFROM:-0800
TZOFFSETTO:-0700
TZNAME:PDT
DTSTART:20220313T100000
END:DAYLIGHT
BEGIN:STANDARD
TZOFFSETFROM:-0700
TZOFFSETTO:-0800
TZNAME:PST
DTSTART:20221106T090000
END:STANDARD
BEGIN:DAYLIGHT
TZOFFSETFROM:-0800
TZOFFSETTO:-0700
TZNAME:PDT
DTSTART:20230312T100000
END:DAYLIGHT
BEGIN:STANDARD
TZOFFSETFROM:-0700
TZOFFSETTO:-0800
TZNAME:PST
DTSTART:20231105T090000
END:STANDARD
END:VTIMEZONE
BEGIN:VEVENT
DTSTART;TZID=America/Vancouver:20220924T193000
DTEND;TZID=America/Vancouver:20220924T213000
DTSTAMP:20260421T123004
CREATED:20220824T213232Z
LAST-MODIFIED:20220824T213232Z
UID:8889-1664047800-1664055000@tidemarktheatre.com
SUMMARY:The Bills
DESCRIPTION:The Bills are renowned for their instrumental virtuosity\, lush vocal arrangements\, evocative songwriting\, and a refreshing sound that transcends musical boundaries and defies simple categorization. Strings\, bellows\, keys\, voices\, skin and bows – these are the vehicles for The Bills’ unique sonic approach. With individual band members sporting world-class credentials in folk/roots\, jazz\, classical and world music\, The Bills truly are a Canadian acoustic music super-group\, and their combined creative studio talent and explosive live shows have made them legendary folk/roots entertainers.  \nMore information is available at: thebills.ca \nTickets: $20 Advance\, $25 At the Door (+applicable taxes & fees)
URL:https://tidemarktheatre.com/event/the-bills/
LOCATION:Quadra Community Centre\, 970 West Rd\, Quathiaski Cove\, BC\, V0P 1N0\, Canada
CATEGORIES:Off Site Events
ATTACH;FMTTYPE=image/jpeg:https://tidemarktheatre.com/wp-content/uploads/2022/08/the-bills-web.jpg
END:VEVENT
END:VCALENDAR