BEGIN:VCALENDAR
VERSION:2.0
PRODID:-//Tidemark Theatre - ECPv6.15.20//NONSGML v1.0//EN
CALSCALE:GREGORIAN
METHOD:PUBLISH
X-ORIGINAL-URL:https://tidemarktheatre.com
X-WR-CALDESC:Events for Tidemark Theatre
REFRESH-INTERVAL;VALUE=DURATION:PT1H
X-Robots-Tag:noindex
X-PUBLISHED-TTL:PT1H
BEGIN:VTIMEZONE
TZID:America/Vancouver
BEGIN:DAYLIGHT
TZOFFSETFROM:-0800
TZOFFSETTO:-0700
TZNAME:PDT
DTSTART:20210314T100000
END:DAYLIGHT
BEGIN:STANDARD
TZOFFSETFROM:-0700
TZOFFSETTO:-0800
TZNAME:PST
DTSTART:20211107T090000
END:STANDARD
BEGIN:DAYLIGHT
TZOFFSETFROM:-0800
TZOFFSETTO:-0700
TZNAME:PDT
DTSTART:20220313T100000
END:DAYLIGHT
BEGIN:STANDARD
TZOFFSETFROM:-0700
TZOFFSETTO:-0800
TZNAME:PST
DTSTART:20221106T090000
END:STANDARD
BEGIN:DAYLIGHT
TZOFFSETFROM:-0800
TZOFFSETTO:-0700
TZNAME:PDT
DTSTART:20230312T100000
END:DAYLIGHT
BEGIN:STANDARD
TZOFFSETFROM:-0700
TZOFFSETTO:-0800
TZNAME:PST
DTSTART:20231105T090000
END:STANDARD
END:VTIMEZONE
BEGIN:VEVENT
DTSTART;TZID=America/Vancouver:20221204T190000
DTEND;TZID=America/Vancouver:20221204T220000
DTSTAMP:20260421T033021
CREATED:20221014T183311Z
LAST-MODIFIED:20221014T183311Z
UID:9031-1670180400-1670191200@tidemarktheatre.com
SUMMARY:Banff Mountain Film Festival (Quadra)
DESCRIPTION:Ignite your passion for adventure\, action\, and travel! The Banff Centre Mountain Film Festival World Tour will exhilarate you with amazing big-screen stories when it comes to the Tidemark Theatre in Campbell River December 1st and 3rd\, and the Quadra Community Centre on December 4th. Journey to exotic locations\, paddle the wildest waters\, and climb the highest peaks. Get your tickets today and be taken away to the most captivating places on earth. \nThe 2022/2023 World Tour brings films from the 45th annual Banff Centre Mountain Film and Book Festival to about 550 communities around the globe. From an exploration of remote landscapes and mountain cultures to adrenaline-fueled action sports\, films in this year’s World Tour are sure to captivate and amaze the explorer within you. \nBe moved. Be inspired. Don’t miss out. Last year’s shows were nearly sold out. This stop on the World Tour is presented by Rab\, BUFF®\, and Banff & Lake Louise Tourism\, brought to you by Wild Isle Publications. \nTickets: $25 Adult\, $20 Student/Senior (+applicable taxes & fees)  \nAll three showings between Campbell River and Quadra will show the same films. \nClick here to purchase tickets for Banff Centre Mountain Film Festival in Campbell River. \n*print at home tickets not available for this performance*
URL:https://tidemarktheatre.com/event/banff-mountain-film-festival-quadra-3/
LOCATION:Quadra Community Centre\, 970 West Rd\, Quathiaski Cove\, BC\, V0P 1N0\, Canada
CATEGORIES:Off Site Events
ATTACH;FMTTYPE=image/jpeg:https://tidemarktheatre.com/wp-content/uploads/2022/10/Banff-web.jpg
END:VEVENT
END:VCALENDAR