BEGIN:VCALENDAR
VERSION:2.0
PRODID:-//Tidemark Theatre - ECPv6.15.20//NONSGML v1.0//EN
CALSCALE:GREGORIAN
METHOD:PUBLISH
X-WR-CALNAME:Tidemark Theatre
X-ORIGINAL-URL:https://tidemarktheatre.com
X-WR-CALDESC:Events for Tidemark Theatre
REFRESH-INTERVAL;VALUE=DURATION:PT1H
X-Robots-Tag:noindex
X-PUBLISHED-TTL:PT1H
BEGIN:VTIMEZONE
TZID:America/Vancouver
BEGIN:DAYLIGHT
TZOFFSETFROM:-0800
TZOFFSETTO:-0700
TZNAME:PDT
DTSTART:20220313T100000
END:DAYLIGHT
BEGIN:STANDARD
TZOFFSETFROM:-0700
TZOFFSETTO:-0800
TZNAME:PST
DTSTART:20221106T090000
END:STANDARD
BEGIN:DAYLIGHT
TZOFFSETFROM:-0800
TZOFFSETTO:-0700
TZNAME:PDT
DTSTART:20230312T100000
END:DAYLIGHT
BEGIN:STANDARD
TZOFFSETFROM:-0700
TZOFFSETTO:-0800
TZNAME:PST
DTSTART:20231105T090000
END:STANDARD
BEGIN:DAYLIGHT
TZOFFSETFROM:-0800
TZOFFSETTO:-0700
TZNAME:PDT
DTSTART:20240310T100000
END:DAYLIGHT
BEGIN:STANDARD
TZOFFSETFROM:-0700
TZOFFSETTO:-0800
TZNAME:PST
DTSTART:20241103T090000
END:STANDARD
END:VTIMEZONE
BEGIN:VEVENT
DTSTART;TZID=America/Vancouver:20230412T190000
DTEND;TZID=America/Vancouver:20230412T210000
DTSTAMP:20260420T212959
CREATED:20230106T214711Z
LAST-MODIFIED:20230223T183403Z
UID:9195-1681326000-1681333200@tidemarktheatre.com
SUMMARY:Abigail Lapell
DESCRIPTION:Highway 19 Concerts Society presents Toronto singer-songwriter Abigail Lapell. \nOver the past five years and three spellbinding albums\, Lapell has garnered two Canadian Folk Music Awards\, hit number one on Canadian folk radio and accrued a staggering 20 million+ Spotify streams while touring widely across Canada\, the U.S. and Europe.  \nShe’s been compared to Joni Mitchell\, Gillian Welch\, Carole King\, Natalie Merchant\, and Frazey Ford\, and called “the best folk artist you haven’t yet discovered.” \nHer third album\, the elemental and powerfully evocative Stolen Time\, was released in the spring of 2022. A theme of recovery runs through the album\, with songs about becoming sober\, or a partner’s sudden illness\, exploring the cycle of rehabilitation and relapse. The title comes from tempo rubato\, a music term referring to the loose push and pull of expressive phrasing—a fitting metaphor for the shifting rhythm of uncertain times. An eclectic cast of musicians underscores the power of Lapell’s vocals on live-off-the-floor\, 70s folk rock arrangements featuring bass\, drums\, horns\, strings and steel. But many of Stolen Time’s standout tracks are solo guitar or piano songs\, backed by little more than ghostly accordion or harmonica. The result is Lapell’s most ambitious and confident album to date. \nLapell will perform two sets of her haunting and gorgeous modern folk songs along with her three-piece band. \nTickets: $24 Adult\, $5 Teen (ages 13-19)\, Child under 13 free with an accompanying adult (+applicable taxes and fees)
URL:https://tidemarktheatre.com/event/abigail-lapell/
LOCATION:Rivercity Stage\, 1080 Hemlock St\, Campbell River\, BC\, V9W 3E4\, Canada
CATEGORIES:Off Site Events
ATTACH;FMTTYPE=image/jpeg:https://tidemarktheatre.com/wp-content/uploads/2023/01/ABIG-web-1.jpg
END:VEVENT
END:VCALENDAR