BEGIN:VCALENDAR
VERSION:2.0
PRODID:-//Tidemark Theatre - ECPv6.15.20//NONSGML v1.0//EN
CALSCALE:GREGORIAN
METHOD:PUBLISH
X-WR-CALNAME:Tidemark Theatre
X-ORIGINAL-URL:https://tidemarktheatre.com
X-WR-CALDESC:Events for Tidemark Theatre
REFRESH-INTERVAL;VALUE=DURATION:PT1H
X-Robots-Tag:noindex
X-PUBLISHED-TTL:PT1H
BEGIN:VTIMEZONE
TZID:America/Vancouver
BEGIN:DAYLIGHT
TZOFFSETFROM:-0800
TZOFFSETTO:-0700
TZNAME:PDT
DTSTART:20220313T100000
END:DAYLIGHT
BEGIN:STANDARD
TZOFFSETFROM:-0700
TZOFFSETTO:-0800
TZNAME:PST
DTSTART:20221106T090000
END:STANDARD
BEGIN:DAYLIGHT
TZOFFSETFROM:-0800
TZOFFSETTO:-0700
TZNAME:PDT
DTSTART:20230312T100000
END:DAYLIGHT
BEGIN:STANDARD
TZOFFSETFROM:-0700
TZOFFSETTO:-0800
TZNAME:PST
DTSTART:20231105T090000
END:STANDARD
BEGIN:DAYLIGHT
TZOFFSETFROM:-0800
TZOFFSETTO:-0700
TZNAME:PDT
DTSTART:20240310T100000
END:DAYLIGHT
BEGIN:STANDARD
TZOFFSETFROM:-0700
TZOFFSETTO:-0800
TZNAME:PST
DTSTART:20241103T090000
END:STANDARD
END:VTIMEZONE
BEGIN:VEVENT
DTSTART;TZID=America/Vancouver:20230610T110000
DTEND;TZID=America/Vancouver:20230610T200000
DTSTAMP:20260420T182805
CREATED:20230119T194204Z
LAST-MODIFIED:20230123T164224Z
UID:9255-1686394800-1686427200@tidemarktheatre.com
SUMMARY:The Alchemy of Gathering
DESCRIPTION:Set in the beautiful atmosphere of the Kitty Coleman Woodland Gardens\, the Alchemy of Gathering will focus on creating an open space for community to come together and celebrate our connections – connections to each other\, to Nature and to ourselves. The gathering will also offer an area for artistic emotional expression and healing through the creative process of three Art for Healing workshops. \nThe Alchemy of Gathering will begin with an opening ceremony led by the local First Nations to celebrate and honour the land and people. On the stage\, throughout the day\, there will be presentations\, live music and sound healing performances. \nSet amongst the majestic tall trees of the Sunset Garden\, over 40 local vendors will have products and services related to wellness\, creativity\, healing\, empowerment\, self-care and community. Also\, there will be interactive stations for attendees to participate in different meditation techniques\, smudging and more. \nExperience a time and space to gather and share ideas on wellness\, connection\, identity\, creativity\, healing and more. Let us come together in Nature and celebrate the community and love that is here NOW! \nTickets: $25 Admission\, Kids 12 & under free with a ticketed adult (+applicable taxes & fees)
URL:https://tidemarktheatre.com/event/the-alchemy-of-gathering/
LOCATION:Kitty Coleman Woodland Gardens\, 6183 Whitaker Rd\, Courtenay\, BC\, V9J 1V7\, Canada
CATEGORIES:Off Site Events
ATTACH;FMTTYPE=image/jpeg:https://tidemarktheatre.com/wp-content/uploads/2023/01/Alchemy-of-Gathering-web.jpg
END:VEVENT
BEGIN:VEVENT
DTSTART;TZID=America/Vancouver:20230622T190000
DTEND;TZID=America/Vancouver:20230622T210000
DTSTAMP:20260420T182805
CREATED:20230523T223814Z
LAST-MODIFIED:20230523T223814Z
UID:9535-1687460400-1687467600@tidemarktheatre.com
SUMMARY:A Very Queer Evening of Comedy
DESCRIPTION:In the lead up to Campbell River’s Pride Festival on June 24\, North Island Pride Society and Highway 19 Concerts present a prideful comedy night featuring comics that encompass many parts of the rainbow community. This show is all about diversity\, inclusion and shared laughter. \nFeaturing Patti Savard\, Brett McCrindle\, Patricia Ellen\, Bob Warwick\, and guest ally Mary Wisforden (with a little post-Indigenous Peoples Day humour in the mix) and hosted by Jason Martin. This talented team of funny folks are coming to Campbell River from various parts of the Island and the lower mainland. \nWarning\, adult and very queer subject matter! \nAll are welcome. Come laugh with us 😁🎤🌈 \nTickets: $20 Admission (+applicable taxes & fees)
URL:https://tidemarktheatre.com/event/a-very-queer-evening-of-comedy/
LOCATION:Rivercity Stage\, 1080 Hemlock St\, Campbell River\, BC\, V9W 3E4\, Canada
CATEGORIES:Off Site Events
ATTACH;FMTTYPE=image/jpeg:https://tidemarktheatre.com/wp-content/uploads/2023/05/Queer-Comedy-web.jpg
END:VEVENT
END:VCALENDAR