BEGIN:VCALENDAR
VERSION:2.0
PRODID:-//Tidemark Theatre - ECPv6.15.20//NONSGML v1.0//EN
CALSCALE:GREGORIAN
METHOD:PUBLISH
X-ORIGINAL-URL:https://tidemarktheatre.com
X-WR-CALDESC:Events for Tidemark Theatre
REFRESH-INTERVAL;VALUE=DURATION:PT1H
X-Robots-Tag:noindex
X-PUBLISHED-TTL:PT1H
BEGIN:VTIMEZONE
TZID:America/Vancouver
BEGIN:DAYLIGHT
TZOFFSETFROM:-0800
TZOFFSETTO:-0700
TZNAME:PDT
DTSTART:20220313T100000
END:DAYLIGHT
BEGIN:STANDARD
TZOFFSETFROM:-0700
TZOFFSETTO:-0800
TZNAME:PST
DTSTART:20221106T090000
END:STANDARD
BEGIN:DAYLIGHT
TZOFFSETFROM:-0800
TZOFFSETTO:-0700
TZNAME:PDT
DTSTART:20230312T100000
END:DAYLIGHT
BEGIN:STANDARD
TZOFFSETFROM:-0700
TZOFFSETTO:-0800
TZNAME:PST
DTSTART:20231105T090000
END:STANDARD
BEGIN:DAYLIGHT
TZOFFSETFROM:-0800
TZOFFSETTO:-0700
TZNAME:PDT
DTSTART:20240310T100000
END:DAYLIGHT
BEGIN:STANDARD
TZOFFSETFROM:-0700
TZOFFSETTO:-0800
TZNAME:PST
DTSTART:20241103T090000
END:STANDARD
END:VTIMEZONE
BEGIN:VEVENT
DTSTART;TZID=America/Vancouver:20230709T140000
DTEND;TZID=America/Vancouver:20230709T160000
DTSTAMP:20260420T162930
CREATED:20230627T221426Z
LAST-MODIFIED:20230627T221426Z
UID:9576-1688911200-1688918400@tidemarktheatre.com
SUMMARY:Malleus Trio
DESCRIPTION:Highway 19 Concerts presents top-notch jazz and the best view in town when Malleus Trio plays an afternoon show on the patio at the Anchor Inn. \nMalleus Trio is an exciting instrumental band based out of Vancouver. Their music fuses high-octane improvisation with dynamic original compositions. Having forged their musical rapport for over a decade\, there is a palpable chemistry pulsing through their music. The group’s language speaks to both familiarity and risk\, resulting in a sound that is both unconventional and accessible. \nComprised of bassist Geordie Hart (The Boom Booms)\, Dominic Conway (Mary Ancheta Quartet) on tenor saxophone\, and drummer Ben Brown (Pugs & Crows)\, Malleus Trio is marking the release of their third album\, “On/Off” this summer with performances at the international jazz festivals in Toronto\, Medicine Hat\, Calgary\, and Victoria. \nTickets are general admission. Show starts at 2pm. Come early to reserve your table. \nhwy19concerts@gmail.com for more information \nTickets: $25 Admission\, $5 Youth (+applicable taxes & fees)
URL:https://tidemarktheatre.com/event/malleus-trio/
LOCATION:Anchor Inn & Suites\, 261 Island Hwy\, Campbell River\, BC\, V9W 2B3\, Canada
CATEGORIES:Off Site Events
ATTACH;FMTTYPE=image/jpeg:https://tidemarktheatre.com/wp-content/uploads/2023/06/malleus-trio-web.jpg
END:VEVENT
BEGIN:VEVENT
DTSTART;TZID=America/Vancouver:20230717T190000
DTEND;TZID=America/Vancouver:20230717T210000
DTSTAMP:20260420T162930
CREATED:20230420T232857Z
LAST-MODIFIED:20230421T215123Z
UID:9452-1689620400-1689627600@tidemarktheatre.com
SUMMARY:Quadra Festival of Chamber Music
DESCRIPTION:Quadra Festival of Chamber Music features a week of beautiful chamber music with world-class musicians this July! \n2023 is the 11th Quadra Island Festival of Chamber Music. This year\, the festival again brings both new and familiar faces to the programme and a rich kaleidoscope of musical offerings. Together the musicians bring talent from across Canada and as far away as Brazil\, and Barcelona\, Spain. \nQuadra’s unique settings for chamber music – the intimacy of the United Church at Cape Mudge Village\, the breathtaking views at Gowland Harbour Resort\, the rural hospitality of the island’s own SouthEnd Farm Winery\, and the Community Centre built with island timbers – bring the audience and musicians together in a way no formal concert hall can offer. \n\nMonday July 17th\, 7:00pm Gowlland Harbour Resort \nBaroque Elegance: “The Dawn Breaks” \nEnjoy music of the greats – Vivaldi and others – as performed on incredible Baroque instruments. \nBring a cushion to sit on if you wish. Parking is limited so car share is encouraged. \n\nTuesday July 18th 7:00pm Quadra Community Center \n‘’Sunrise’’ and the Schumanns \nHaydn’s “Sunrise” Quartet\, the music of Clara and Robert Schumann\, and a passionate “Homage to Manuel de Falla.” \nAs part of our initiative to support young artists\, we will also feature a talented young pianist from the region who will perform works for solo piano. \nRefreshments will be available to purchase. \n\nThursday July 20th  7:00pm Quadra Island Church (12 Weway Rd\, Quathiaski Cove) \n“The Reflected Light” \nMusic of Schumann\, Brahms\, and the ethereal Spiegel im Spiegel of Arvo Pärt. \nBring a cushion to sit on if you wish. Beverages and treats will be available to purchase. \n\nFriday July 21st 7:00pm SouthEnd Farm Winery  (319 Sutil Rd\, Quathiaski Cove) \n“The Day Gives Way” \nThe passion of Spain\, fiery Paganini\, and artistic director Philip Hansen’s new work\, “Noc-turning.” \nTicket includes a glass of wine and charcuterie. Wine will also be available to purchase by the glass and by the bottle. \nSouthEnd Winery tickets are available only as part of the bundled ticket package.  \n\nSaturday July 22nd 7:00pm Quadra Community Center (970 W Rd\, Quathiaski Cove) \nMozart’s “A Little Night Music” \nJoin us for our grand finale\, with the famous Eine Kleine Nachtmusik of Mozart and his Kegelstatt Trio – plus gorgeous nocturnes by other composer greats. \nRefreshments will be available to purchase. \n\nFestival Pass for all 5 Events: $150 (+applicable taxes & fees) \nTickets MUST be printed at home\, picked up at the Tidemark Theatre prior to the Festival\, or mailed out. No “will call” available at the event. \nFor more information\, visit quadrafestival.ca
URL:https://tidemarktheatre.com/event/quadra-festival-of-chamber-music/
LOCATION:Quadra Island
CATEGORIES:Off Site Events
ATTACH;FMTTYPE=image/jpeg:https://tidemarktheatre.com/wp-content/uploads/2023/04/Quadra-Festival-web.jpg
END:VEVENT
END:VCALENDAR