BEGIN:VCALENDAR
VERSION:2.0
PRODID:-//Tidemark Theatre - ECPv6.15.20//NONSGML v1.0//EN
CALSCALE:GREGORIAN
METHOD:PUBLISH
X-WR-CALNAME:Tidemark Theatre
X-ORIGINAL-URL:https://tidemarktheatre.com
X-WR-CALDESC:Events for Tidemark Theatre
REFRESH-INTERVAL;VALUE=DURATION:PT1H
X-Robots-Tag:noindex
X-PUBLISHED-TTL:PT1H
BEGIN:VTIMEZONE
TZID:America/Vancouver
BEGIN:DAYLIGHT
TZOFFSETFROM:-0800
TZOFFSETTO:-0700
TZNAME:PDT
DTSTART:20220313T100000
END:DAYLIGHT
BEGIN:STANDARD
TZOFFSETFROM:-0700
TZOFFSETTO:-0800
TZNAME:PST
DTSTART:20221106T090000
END:STANDARD
BEGIN:DAYLIGHT
TZOFFSETFROM:-0800
TZOFFSETTO:-0700
TZNAME:PDT
DTSTART:20230312T100000
END:DAYLIGHT
BEGIN:STANDARD
TZOFFSETFROM:-0700
TZOFFSETTO:-0800
TZNAME:PST
DTSTART:20231105T090000
END:STANDARD
BEGIN:DAYLIGHT
TZOFFSETFROM:-0800
TZOFFSETTO:-0700
TZNAME:PDT
DTSTART:20240310T100000
END:DAYLIGHT
BEGIN:STANDARD
TZOFFSETFROM:-0700
TZOFFSETTO:-0800
TZNAME:PST
DTSTART:20241103T090000
END:STANDARD
END:VTIMEZONE
BEGIN:VEVENT
DTSTART;TZID=America/Vancouver:20230818T173000
DTEND;TZID=America/Vancouver:20230818T210000
DTSTAMP:20260420T145100
CREATED:20230630T184036Z
LAST-MODIFIED:20230821T172718Z
UID:9579-1692379800-1692392400@tidemarktheatre.com
SUMMARY:Bevy About Town
DESCRIPTION:The Campbell River Downtown Business Improvement Association (BIA) is excited to present Bevy About Town. Between 5:30 pm and 9:00 pm\, the event includes 11 alcoholic tastings plus four non-alcoholic tastings\, a charcuterie box\, a commemorative stemless non-breakable glass\, tickets and a map. \nWe have selected 11 businesses in our Downtown\, each paired with a representative from a local winery\, brewery\, or distillery. Not only will you get to taste some great beverages\, you will also get to shop at the unique and diverse merchants our Downtown has to offer. \nMeet us in the courtyard between the Library and the Tidemark to receive your drink tickets\, charcuterie box and wrist band. We hope you will join us for this perfect summer event celebrating the best of Campbell River and Vancouver Island. \nTickets: $50 Admission (+applicable taxes & fees)
URL:https://tidemarktheatre.com/event/bevy-about-town/
LOCATION:Downtown Campbell River
CATEGORIES:Off Site Events
ATTACH;FMTTYPE=image/jpeg:https://tidemarktheatre.com/wp-content/uploads/2023/06/bevy-about-town-web.jpg
END:VEVENT
END:VCALENDAR