BEGIN:VCALENDAR
VERSION:2.0
PRODID:-//Tidemark Theatre - ECPv6.15.20//NONSGML v1.0//EN
CALSCALE:GREGORIAN
METHOD:PUBLISH
X-ORIGINAL-URL:https://tidemarktheatre.com
X-WR-CALDESC:Events for Tidemark Theatre
REFRESH-INTERVAL;VALUE=DURATION:PT1H
X-Robots-Tag:noindex
X-PUBLISHED-TTL:PT1H
BEGIN:VTIMEZONE
TZID:America/Vancouver
BEGIN:DAYLIGHT
TZOFFSETFROM:-0800
TZOFFSETTO:-0700
TZNAME:PDT
DTSTART:20220313T100000
END:DAYLIGHT
BEGIN:STANDARD
TZOFFSETFROM:-0700
TZOFFSETTO:-0800
TZNAME:PST
DTSTART:20221106T090000
END:STANDARD
BEGIN:DAYLIGHT
TZOFFSETFROM:-0800
TZOFFSETTO:-0700
TZNAME:PDT
DTSTART:20230312T100000
END:DAYLIGHT
BEGIN:STANDARD
TZOFFSETFROM:-0700
TZOFFSETTO:-0800
TZNAME:PST
DTSTART:20231105T090000
END:STANDARD
BEGIN:DAYLIGHT
TZOFFSETFROM:-0800
TZOFFSETTO:-0700
TZNAME:PDT
DTSTART:20240310T100000
END:DAYLIGHT
BEGIN:STANDARD
TZOFFSETFROM:-0700
TZOFFSETTO:-0800
TZNAME:PST
DTSTART:20241103T090000
END:STANDARD
END:VTIMEZONE
BEGIN:VEVENT
DTSTART;TZID=America/Vancouver:20231118T193000
DTEND;TZID=America/Vancouver:20231118T213000
DTSTAMP:20260420T102350
CREATED:20230823T224310Z
LAST-MODIFIED:20230823T224310Z
UID:9690-1700335800-1700343000@tidemarktheatre.com
SUMMARY:Sarah Hagen
DESCRIPTION:Canadian pianist Sarah Hagen’s extensive touring has taken her across Canada\, to Sweden\, Denmark\, France\, Germany and Italy\, and twice to New York City’s Carnegie Hall. Awarded as Artist of the Year by both Ontario Contact (2017) and the BC Touring Council (2015)\, and mentioned by The Guardian (Charlottetown) as the Best Classical Performance of 2014\, her interpretations have been described as “outstandingly inventive” [University of Waterloo Gazette]\, “played flawlessly” [Review- Vancouver]. Touring as both a solo pianist and as a comedienne\, “Hagen reminds us how the beauty of an honest solo performance can make you so easily fall in love with its performer.” [Montreal Rampage]. In 2021 Sarah released her fourth album\, J.S. Bach: Goldberg Variations\, which was heralded by Whole Note Magazine as “something to absolutely die for” and won two 2022 Music PEI awards for Instrumental Recording of the Year and Album Art of the Year. Quadra Concerts is pleased to present Sarah Hagen performing “J.S Bach: Goldberg Variations”. \nPlease visit quadraconcerts.ca for additional details. \nTickets: $20 Advance\, $25 At the Door (+applicable taxes & fees)
URL:https://tidemarktheatre.com/event/sarah-hagen/
LOCATION:Quadra Community Centre\, 970 West Rd\, Quathiaski Cove\, BC\, V0P 1N0\, Canada
CATEGORIES:Off Site Events
ATTACH;FMTTYPE=image/jpeg:https://tidemarktheatre.com/wp-content/uploads/2023/08/Hagen_Sarah_web.jpg
END:VEVENT
END:VCALENDAR