BEGIN:VCALENDAR
VERSION:2.0
PRODID:-//Tidemark Theatre - ECPv6.15.20//NONSGML v1.0//EN
CALSCALE:GREGORIAN
METHOD:PUBLISH
X-WR-CALNAME:Tidemark Theatre
X-ORIGINAL-URL:https://tidemarktheatre.com
X-WR-CALDESC:Events for Tidemark Theatre
REFRESH-INTERVAL;VALUE=DURATION:PT1H
X-Robots-Tag:noindex
X-PUBLISHED-TTL:PT1H
BEGIN:VTIMEZONE
TZID:America/Vancouver
BEGIN:DAYLIGHT
TZOFFSETFROM:-0800
TZOFFSETTO:-0700
TZNAME:PDT
DTSTART:20230312T100000
END:DAYLIGHT
BEGIN:STANDARD
TZOFFSETFROM:-0700
TZOFFSETTO:-0800
TZNAME:PST
DTSTART:20231105T090000
END:STANDARD
BEGIN:DAYLIGHT
TZOFFSETFROM:-0800
TZOFFSETTO:-0700
TZNAME:PDT
DTSTART:20240310T100000
END:DAYLIGHT
BEGIN:STANDARD
TZOFFSETFROM:-0700
TZOFFSETTO:-0800
TZNAME:PST
DTSTART:20241103T090000
END:STANDARD
BEGIN:DAYLIGHT
TZOFFSETFROM:-0800
TZOFFSETTO:-0700
TZNAME:PDT
DTSTART:20250309T100000
END:DAYLIGHT
BEGIN:STANDARD
TZOFFSETFROM:-0700
TZOFFSETTO:-0800
TZNAME:PST
DTSTART:20251102T090000
END:STANDARD
END:VTIMEZONE
BEGIN:VEVENT
DTSTART;TZID=America/Vancouver:20240111T190000
DTEND;TZID=America/Vancouver:20240111T210000
DTSTAMP:20260420T073035
CREATED:20230913T215928Z
LAST-MODIFIED:20230913T215928Z
UID:9729-1704999600-1705006800@tidemarktheatre.com
SUMMARY:Jeff Plankenhorn
DESCRIPTION:Highway 19 Concerts is proud to present a special solo hometown concert by singer-songwriter and guitar ace Jeff Plankenhorn. \n“Plank” is a world-class songwriter and had been an accompanist to the stars and first-call session musician in Austin\, Texas for 16 years when he decided to go solo with his critically acclaimed album SoulSlide in 2016. \nIn 2019 he and his wife decided to make her hometown of Campbell River their home base between frequent tours around the US\, Europe and across Canada. \nHis brand new album Alone At Sea reflects Plankenhorn’s new found affinity for his Vancouver Island home while continuing his signature blues-folk-rock sound that was developed over 20-plus years of playing with some of the best songwriters in the world in one of the America’s musical capitals.  \n“Over the course of the last two decades\, Jeff Plankenhorn has worked tirelessly to earn his rep as one of the most reliably can-do\, right-dude-for-the-job musicians in Austin\, Texas. As an exceptionally talented acoustic\, electric\, slide\, and lap-steel guitarist with a keen understanding of the importance of playing to and for a song rather than all over it\, he’s been called on countless times to back a veritable who’s who of Texas and Americana music’s finest singers and songwriters\, including Ray Wylie Hubbard\, Joe Ely\, Eliza Gilkyson\, Ruthie Foster\, and the late Jimmy LaFave.” —Lone Star Music \nPlankenhorn rocked Spirit Square this past summer with his band\, but will be solo for this intimate concert at Rivercity Stage. \nGeneral admission tickets are available for $20 to be affordable to anyone who wishes to attend\, or $30 help sustain this concert series. The choice is yours. Teen tickets are only $5 and tickets for kids are free when accompanied by a paying adult. \nTickets:$30/$20 Adult\, $5 Teen (ages 13-19)\, Child under 13 free with an accompanying adult (+applicable taxes and fees)
URL:https://tidemarktheatre.com/event/jeff-plankenhorn/
LOCATION:Rivercity Stage\, 1080 Hemlock St\, Campbell River\, BC\, V9W 3E4\, Canada
CATEGORIES:Off Site Events
ATTACH;FMTTYPE=image/jpeg:https://tidemarktheatre.com/wp-content/uploads/2023/09/Jeff-Plankenhorn-web.jpg
END:VEVENT
BEGIN:VEVENT
DTSTART;TZID=America/Vancouver:20240113T190000
DTEND;TZID=America/Vancouver:20240113T213000
DTSTAMP:20260420T073035
CREATED:20231030T194919Z
LAST-MODIFIED:20231222T215602Z
UID:9843-1705172400-1705181400@tidemarktheatre.com
SUMMARY:Banff Mountain Film Festival World Tour (Quadra)
DESCRIPTION:Ignite your passion for adventure\, action\, and travel! The Banff Centre Mountain Film Festival World Tour will exhilarate you with amazing big-screen stories when it comes to the Tidemark Theatre in Campbell River January 11th and 12th\, and the Quadra Community Centre on January 13th. Journey to exotic locations\, paddle the wildest waters\, and climb the highest peaks. Get your tickets today and be taken away to the most captivating places on earth. \nThe 2023/2024 World Tour brings films from the 46th annual Banff Centre Mountain Film and Book Festival to about 550 communities around the globe. From an exploration of remote landscapes and mountain cultures to adrenaline-fueled action sports\, films in this year’s World Tour are sure to captivate and amaze the explorer within you. \nBe moved. Be inspired. Don’t miss out. Last year’s shows were nearly sold out. This stop on the World Tour is presented by Banff & Lake Louise Tourism\, and Rab\, brought to you by Wild Isle Publications. \nClick here to view the Saturday lineup of films.  Program subject to change. \nTickets: $30 Adult\, $25 Student/Senior\, $10 Child 12 & under (+applicable taxes & fees)  \nClick here to purchase tickets for Banff Centre Mountain Film Festival in Campbell River. \n*print at home tickets not available for this performance*
URL:https://tidemarktheatre.com/event/banff-mountain-film-festival-world-tour-quadra-2/
LOCATION:Quadra Community Centre\, 970 West Rd\, Quathiaski Cove\, BC\, V0P 1N0\, Canada
CATEGORIES:Off Site Events
ATTACH;FMTTYPE=image/jpeg:https://tidemarktheatre.com/wp-content/uploads/2023/10/Banff-web.jpg
END:VEVENT
END:VCALENDAR