BEGIN:VCALENDAR
VERSION:2.0
PRODID:-//Tidemark Theatre - ECPv6.15.20//NONSGML v1.0//EN
CALSCALE:GREGORIAN
METHOD:PUBLISH
X-WR-CALNAME:Tidemark Theatre
X-ORIGINAL-URL:https://tidemarktheatre.com
X-WR-CALDESC:Events for Tidemark Theatre
REFRESH-INTERVAL;VALUE=DURATION:PT1H
X-Robots-Tag:noindex
X-PUBLISHED-TTL:PT1H
BEGIN:VTIMEZONE
TZID:America/Vancouver
BEGIN:DAYLIGHT
TZOFFSETFROM:-0800
TZOFFSETTO:-0700
TZNAME:PDT
DTSTART:20230312T100000
END:DAYLIGHT
BEGIN:STANDARD
TZOFFSETFROM:-0700
TZOFFSETTO:-0800
TZNAME:PST
DTSTART:20231105T090000
END:STANDARD
BEGIN:DAYLIGHT
TZOFFSETFROM:-0800
TZOFFSETTO:-0700
TZNAME:PDT
DTSTART:20240310T100000
END:DAYLIGHT
BEGIN:STANDARD
TZOFFSETFROM:-0700
TZOFFSETTO:-0800
TZNAME:PST
DTSTART:20241103T090000
END:STANDARD
BEGIN:DAYLIGHT
TZOFFSETFROM:-0800
TZOFFSETTO:-0700
TZNAME:PDT
DTSTART:20250309T100000
END:DAYLIGHT
BEGIN:STANDARD
TZOFFSETFROM:-0700
TZOFFSETTO:-0800
TZNAME:PST
DTSTART:20251102T090000
END:STANDARD
END:VTIMEZONE
BEGIN:VEVENT
DTSTART;TZID=America/Vancouver:20240208T190000
DTEND;TZID=America/Vancouver:20240208T210000
DTSTAMP:20260420T061520
CREATED:20231202T003959Z
LAST-MODIFIED:20231202T230355Z
UID:9929-1707418800-1707426000@tidemarktheatre.com
SUMMARY:Medusa Quartet
DESCRIPTION:Highway 19 Concerts presents the Western string quartet reimagined by four expert folk musicians from Toronto. \nMedusa is Georgia Hathaway on violin\, Lea Kirstein on cello and viola\, Marta Sołek on Polish fiddle\, Greek lira and cello\, and Saskia Tomkins on nyckelharpa and violin. For these four seasoned players\, whose collective experience as side players in successful bands spans decades\, Medusa is a refuge for natural creation. \nMedusa’s dynamic arrangement style cross-pollinates the sounds of Middle Eastern\, Scandinavian\, Celtic\, Appalachian\, and Eastern European music\, as well as original tunes\, to create something previously unheard. \nAudiences call them enthralling\, unexpected\, unique\, mesmerizing\, and delightful. “Medusa brings the richness of musical culture\, spoken through strings\, to modern audiences…” \nOne of the most misunderstood figures in ancient mythology\, Medusa was wrongfully punished and cast out for being the victim of a violent act\, but is remembered solely for her frightful ugliness and lithifying gaze. Through their personal narratives of alienation due to racism\, sexism\, immigration\, queerness\, and disability\, Medusa the band aims to retell this story by bringing back what has been cast out. Marta Solek and Saskia Tomkins resurrect the Suka\, the Płosk fidel\, and the Nyckelharpa  –  near-forgotten traditional folk fiddles with disreputable connotations that were rejected for centuries in their home countries of Poland and Sweden. Instead of a snake-haired Gorgon\, they see Medusa as a symbol of vision\, power\, and inclusivity\, and a source of inspiration for anyone who has been denied their true self. \nGeneral admission tickets are available for $20 to be affordable to anyone who wishes to attend\, or $30 help sustain this concert series. The choice is yours. Teen tickets are only $5 and tickets for kids are free when accompanied by a paying adult. \nTickets: $30/$20 Adult\, $5 Teen (ages 13-19)\, Child under 13 free with an accompanying adult (+applicable taxes and fees)
URL:https://tidemarktheatre.com/event/medusa-quartet/
LOCATION:Rivercity Stage\, 1080 Hemlock St\, Campbell River\, BC\, V9W 3E4\, Canada
CATEGORIES:Off Site Events
ATTACH;FMTTYPE=image/jpeg:https://tidemarktheatre.com/wp-content/uploads/2023/12/Medusa-Quartet-web.jpg
END:VEVENT
BEGIN:VEVENT
DTSTART;TZID=America/Vancouver:20240217T193000
DTEND;TZID=America/Vancouver:20240217T213000
DTSTAMP:20260420T061520
CREATED:20231214T221608Z
LAST-MODIFIED:20231214T221608Z
UID:9974-1708198200-1708205400@tidemarktheatre.com
SUMMARY:John Reischman and the Jaybirds
DESCRIPTION:As leader of John Reischman and the Jaybirds\, John and his talented U.S. and Canadian bandmates have toured extensively throughout North America and abroad\, bringing a uniquely Pacific Northwest sound to their brand of bluegrass and original acoustic instrumentals. After only a single personnel change in 20 years\, the Jaybirds feature five exquisitely talented bluegrass musicians. Trisha Gagnon has distinguished herself as one of the finest female vocalists in bluegrass\, and provides the Jaybirds a solid rhythmic and harmonic foundation with her strong stand-up bass playing. With his unique two-finger style on five-string banjo\, Nick Hornbuckle gives the Jaybirds a fresh sound at one of its most crucial skilled positions. Greg Spatz holds the band’s violin chair\, giving the Jaybirds a selection of fiddle styles from new acoustic bluegrass\, Celtic\, and old-time styles. Newest member Patrick Sauber gives the Jaybirds a brilliant lead guitar voice that matches the high standard of musicianship that has been this band’s hallmark for two decades. Considered by critics and audiences as one of the true masters of mandolin today\, John Reischman remains committed to his original vision of exploring multiple mandolin genres in a style based on making each note and phrase sound uniquely rich and clear. Together\, John Reischman and the Jaybirds have earned two coveted Juno Award nominations for the best performances in the Canadian organisation’s “Roots and Traditional” category\, releasing seven albums during their 20-year tenure. \nPlease visit quadraconcerts.ca for additional details. \nTickets: $20 Advance\, $25 At the Door (+applicable taxes & fees)
URL:https://tidemarktheatre.com/event/john-reischman-and-the-jaybirds/
LOCATION:Quadra Community Centre\, 970 West Rd\, Quathiaski Cove\, BC\, V0P 1N0\, Canada
CATEGORIES:Off Site Events
ATTACH;FMTTYPE=image/jpeg:https://tidemarktheatre.com/wp-content/uploads/2023/12/Jaybirds-web.jpg
END:VEVENT
BEGIN:VEVENT
DTSTART;TZID=America/Vancouver:20240218T200000
DTEND;TZID=America/Vancouver:20240218T220000
DTSTAMP:20260420T061520
CREATED:20231202T232426Z
LAST-MODIFIED:20231202T232426Z
UID:9941-1708286400-1708293600@tidemarktheatre.com
SUMMARY:Mazacote
DESCRIPTION:Highway 19 Concerts presents a night of latin music and dancing with Juno nominated 6-piece band Mazacote from Vancouver and optional dance lessons before the show at 7pm with Forbidden Dance Co. \nMazacote is a hard-hitting Latin band with deep roots in the music of Colombia\, Mozambique and Venezuela. Inspired by Afro-Caribbean percussion and tropical party sounds\, they play brass-heavy latin dance beats with a message! \n“Simply one of the most exceptional Latin music projects in recent memory. An invigorating\, dynamic group….a vibrant celebration\, potent and passionate music” -WholeNote \n“sizzling latin rhythms … highly recommended” -Harmony Arts Festival \n“They sure know how to bring a crowd to their feet!” -Kelowna Capital News \nMazacote lit up Shoppers Row as part of CR Live Streets last summer. Now they’re coming back to bring some heat to the winter in Campbell River. \nTickets are $35 for the concert or $50 including a salsa dance lesson from Forbidden Dance Co. beginning at 7pm. \nTickets: $35 Concert only\, $50 Salsa Lesson and Concert (+applicable taxes & fees) \nSalsa lesson starts at 7:00 pm
URL:https://tidemarktheatre.com/event/mazacote-2/
LOCATION:Willow Point Lions Hall\, 2165 Island Hwy S\, Campbell River\, BC\, V9W 2G6\, Canada
CATEGORIES:Off Site Events
ATTACH;FMTTYPE=image/jpeg:https://tidemarktheatre.com/wp-content/uploads/2023/12/Mazacote-web.jpg
END:VEVENT
END:VCALENDAR