BEGIN:VCALENDAR
VERSION:2.0
PRODID:-//Tidemark Theatre - ECPv6.15.20//NONSGML v1.0//EN
CALSCALE:GREGORIAN
METHOD:PUBLISH
X-ORIGINAL-URL:https://tidemarktheatre.com
X-WR-CALDESC:Events for Tidemark Theatre
REFRESH-INTERVAL;VALUE=DURATION:PT1H
X-Robots-Tag:noindex
X-PUBLISHED-TTL:PT1H
BEGIN:VTIMEZONE
TZID:America/Vancouver
BEGIN:DAYLIGHT
TZOFFSETFROM:-0800
TZOFFSETTO:-0700
TZNAME:PDT
DTSTART:20230312T100000
END:DAYLIGHT
BEGIN:STANDARD
TZOFFSETFROM:-0700
TZOFFSETTO:-0800
TZNAME:PST
DTSTART:20231105T090000
END:STANDARD
BEGIN:DAYLIGHT
TZOFFSETFROM:-0800
TZOFFSETTO:-0700
TZNAME:PDT
DTSTART:20240310T100000
END:DAYLIGHT
BEGIN:STANDARD
TZOFFSETFROM:-0700
TZOFFSETTO:-0800
TZNAME:PST
DTSTART:20241103T090000
END:STANDARD
BEGIN:DAYLIGHT
TZOFFSETFROM:-0800
TZOFFSETTO:-0700
TZNAME:PDT
DTSTART:20250309T100000
END:DAYLIGHT
BEGIN:STANDARD
TZOFFSETFROM:-0700
TZOFFSETTO:-0800
TZNAME:PST
DTSTART:20251102T090000
END:STANDARD
END:VTIMEZONE
BEGIN:VEVENT
DTSTART;TZID=America/Vancouver:20240316T193000
DTEND;TZID=America/Vancouver:20240316T213000
DTSTAMP:20260420T044653
CREATED:20231214T221403Z
LAST-MODIFIED:20240205T182558Z
UID:9976-1710617400-1710624600@tidemarktheatre.com
SUMMARY:Schryer\, Enblom & Dobres
DESCRIPTION:This phenomenal trio of Celtic musicians features Franco-Ontarian fiddler Pierre Schryer\, North American folk dance specialist Danielle Enblom\, and European influenced BC guitarist Adam Dobres. The group brings together three diverse music careers laden with nominations and diplomas including JUNO\, Canadian Folk Music Awards\, Western Canadian Music Awards\, as well as a Diploma in Traditional Irish Music (UCC). The trio manifests a true presence on stage that openly shares the muse of their music-making and their rhythmic creations. Schryer & Dobres first connected in Victoria\, BC through various collaborative festival and recording projects. Today\, making this group a super trio\, is Minnesota step dancer Danielle Enblom who performs the old Irish dancing master traditions\, along with some flavours of her own Métis and Québécois heritage. This exceptional ensemble performs an eclectic array of musical gems from across the globe including traditional and contemporary tunes in various styles from far reaching places including Ireland\, Scotland\, Algeria\, Brazil\, Quebec\, USA and more. The trio continues to appear at national and international festivals from the Pacific to the Atlantic and beyond\, and they are most always honoured with a standing ovation wherever they perform. The show will surely delight – Schryer\, Enblom & Dobres is a tour de force of versatility\, fine musicianship and technical dexterity! \nPlease visit quadraconcerts.ca for additional details. \nTickets: $20 Advance\, $25 At the Door (+applicable taxes & fees)
URL:https://tidemarktheatre.com/event/pierre-schryer-adam-dobres/
LOCATION:Quadra Community Centre\, 970 West Rd\, Quathiaski Cove\, BC\, V0P 1N0\, Canada
CATEGORIES:Off Site Events
ATTACH;FMTTYPE=image/jpeg:https://tidemarktheatre.com/wp-content/uploads/2023/12/Schryer-Enblom-Dobres-web.jpg
END:VEVENT
END:VCALENDAR