BEGIN:VCALENDAR
VERSION:2.0
PRODID:-//Tidemark Theatre - ECPv6.15.20//NONSGML v1.0//EN
CALSCALE:GREGORIAN
METHOD:PUBLISH
X-WR-CALNAME:Tidemark Theatre
X-ORIGINAL-URL:https://tidemarktheatre.com
X-WR-CALDESC:Events for Tidemark Theatre
REFRESH-INTERVAL;VALUE=DURATION:PT1H
X-Robots-Tag:noindex
X-PUBLISHED-TTL:PT1H
BEGIN:VTIMEZONE
TZID:America/Vancouver
BEGIN:DAYLIGHT
TZOFFSETFROM:-0800
TZOFFSETTO:-0700
TZNAME:PDT
DTSTART:20200308T100000
END:DAYLIGHT
BEGIN:STANDARD
TZOFFSETFROM:-0700
TZOFFSETTO:-0800
TZNAME:PST
DTSTART:20201101T090000
END:STANDARD
BEGIN:DAYLIGHT
TZOFFSETFROM:-0800
TZOFFSETTO:-0700
TZNAME:PDT
DTSTART:20210314T100000
END:DAYLIGHT
BEGIN:STANDARD
TZOFFSETFROM:-0700
TZOFFSETTO:-0800
TZNAME:PST
DTSTART:20211107T090000
END:STANDARD
BEGIN:DAYLIGHT
TZOFFSETFROM:-0800
TZOFFSETTO:-0700
TZNAME:PDT
DTSTART:20220313T100000
END:DAYLIGHT
BEGIN:STANDARD
TZOFFSETFROM:-0700
TZOFFSETTO:-0800
TZNAME:PST
DTSTART:20221106T090000
END:STANDARD
END:VTIMEZONE
BEGIN:VEVENT
DTSTART;TZID=America/Vancouver:20211107T193000
DTEND;TZID=America/Vancouver:20211107T213000
DTSTAMP:20260424T105446
CREATED:20210924T180551Z
LAST-MODIFIED:20210924T180551Z
UID:4821-1636313400-1636320600@tidemarktheatre.com
SUMMARY:Janet Cull + Irish Mythen (Music From the Edges of Canada)
DESCRIPTION:The Tidemark Theatre is excited to present Janet Cull and Irish Mythen\, in partnership with Music From the Edges of Canada! \nMusic from the Edges of Canada is a national music series that showcases 22 artists in 11 Live and Virtual Concerts in four Theatres from the edges of Canada. The venue partners are the Imperial Theatre\, Saint John\, NB; the Tidemark Theatre\, Campbell River\, BC; the Yukon Arts Centre\, Whitehorse\, YT; and the Northern Arts & Cultural Centre\, Yellowknife\, NT. \nJanet Cull \nJanet Cull had an immediate impact on the Newfoundland and Labrador music scene upon her arrival in the early 2000’s with the album The Janet Cull Band\, which earned MusicNL awards for “Album of the Year” and “Group of the Year”. Her next full-length release\, in collaboration with Kelly-Ann Evans entitled People Get Ready\, garnered an East Coast Music Awards nomination. \nIn August 2021 Janet released the much anticipated Hear It; an album that at its heart is a reflection of her (and our) often complicated relationships\, expressed through a voice unlike any other in Canada. \nHaving firmly established her reputation in NL\, Janet is now poised to make her mark everywhere with 12 songs that one could be forgiven thinking were recorded in Memphis or Muscle Shoals in the early ‘70s. \nIrish Mythen \nIrish Mythen was born in Ireland and now resides in Charlottetown Prince Edward Island Canada. “This Island creates music and musicians\, art and artists. I found a shift to take things more seriously when I moved here.” And she did just that. \nHer latest release\, Little Bones\, gained her recognition around the globe\, including a 2020 JUNO nomination for Contemporary Roots Album of the Year\, seven Music PEI 2020 nominations and two wins — Touring Artist of the Year and Roots Contemporary Recording of the Year\, and a Canadian Folk Music Nomination for Solo Artist of the Year. \nIrish’s live performances are a thing of raw power\, emotion and a connection with her audience that just has to be seen to be believed. \nTickets: $22 Live Stream (+applicable taxes & fees) \n\nThe Music From the Edges of Canada series includes: \n\nKrystle Dos Santos + Locarno – October 28th\, 2021 – 7:30 pm\nJanet Cull + Irish Mythen – November 7th\, 2021 – 7:30 pm\nRoots & Grooves + Tiller’s Folly – November 20th\, 2021 – 7:30 pm\nSoda Pony + Joëlle Rabu & Nico Rhodes – December 6th\, 2021 – 7:30 pm\nWolf Castle + Les Hôtesses D’Hilaire – January 16th\, 2022 – 7:30 pm\nDiyet + Jim Byrnes – January 22nd\, 2022 – 7:30 pm\nSpeed Control + David Gogo – January 29th\, 2022 – 7:30 pm\nJah’Mila + Kim Harris – February 13th\, 2022 – 7:30 pm\nCarmen Braden + Wesley Hardisty – February 19th\, 2022 – 7:30 pm\nAndrea Bettger + Digawolf – March 2nd\, 2022 – 7:30 pm\nRyan McNally + Blue Moon Marquee – March 27\, 2022 – 7:30 pm\n\nSeries Tickets: $79 Early Bird\, $99 All 11 Shows (+applicable taxes & fees) \n\nTickets: $22 Live Stream (+applicable taxes & fees)
URL:https://tidemarktheatre.com/event/janet-cull-irish-mythen-music-from-the-edges-of-canada/
LOCATION:Tidemark Theatre Online Stream\, BC\, Canada
CATEGORIES:Streaming Online
ATTACH;FMTTYPE=image/jpeg:https://tidemarktheatre.com/wp-content/uploads/2021/09/Janet-Cull-Irish-Mythen-web.jpg
END:VEVENT
END:VCALENDAR