BEGIN:VCALENDAR
VERSION:2.0
PRODID:-//Tidemark Theatre - ECPv6.15.20//NONSGML v1.0//EN
CALSCALE:GREGORIAN
METHOD:PUBLISH
X-ORIGINAL-URL:https://tidemarktheatre.com
X-WR-CALDESC:Events for Tidemark Theatre
REFRESH-INTERVAL;VALUE=DURATION:PT1H
X-Robots-Tag:noindex
X-PUBLISHED-TTL:PT1H
BEGIN:VTIMEZONE
TZID:America/Vancouver
BEGIN:DAYLIGHT
TZOFFSETFROM:-0800
TZOFFSETTO:-0700
TZNAME:PDT
DTSTART:20210314T100000
END:DAYLIGHT
BEGIN:STANDARD
TZOFFSETFROM:-0700
TZOFFSETTO:-0800
TZNAME:PST
DTSTART:20211107T090000
END:STANDARD
BEGIN:DAYLIGHT
TZOFFSETFROM:-0800
TZOFFSETTO:-0700
TZNAME:PDT
DTSTART:20220313T100000
END:DAYLIGHT
BEGIN:STANDARD
TZOFFSETFROM:-0700
TZOFFSETTO:-0800
TZNAME:PST
DTSTART:20221106T090000
END:STANDARD
BEGIN:DAYLIGHT
TZOFFSETFROM:-0800
TZOFFSETTO:-0700
TZNAME:PDT
DTSTART:20230312T100000
END:DAYLIGHT
BEGIN:STANDARD
TZOFFSETFROM:-0700
TZOFFSETTO:-0800
TZNAME:PST
DTSTART:20231105T090000
END:STANDARD
END:VTIMEZONE
BEGIN:VEVENT
DTSTART;TZID=America/Vancouver:20220302T193000
DTEND;TZID=America/Vancouver:20220302T213000
DTSTAMP:20260424T050404
CREATED:20210924T181136Z
LAST-MODIFIED:20210924T181136Z
UID:4842-1646249400-1646256600@tidemarktheatre.com
SUMMARY:Andrea Bettger + Digawolf (Music From the Edges of Canada)
DESCRIPTION:The Tidemark Theatre is excited to present Andrea Bettger and Digawolf\, in partnership with Music From the Edges of Canada! \nMusic from the Edges of Canada is a national music series that showcases 22 artists in 11 Live and Virtual Concerts in four Theatres from the edges of Canada. The venue partners are the Imperial Theatre\, Saint John\, NB; the Tidemark Theatre\, Campbell River\, BC; the Yukon Arts Centre\, Whitehorse\, YT; and the Northern Arts & Cultural Centre\, Yellowknife\, NT. \nAndrea Bettger \nAndrea Bettger has experience playing classical\, jazz and bluegrass styles\, and experiments in the electric world of sounds on her instrument. She has become heavily involved in the Northern-fiddling scene. The fusion of these approaches results in an exciting blend of toe-tapping material\, complemented with meditative and heart-warming melodies. \nAndrea’s diverse musical background and experience has led her to write music that is heavily influenced by Northern Métis fiddling\, and jazz\, gypsy\, and classical violin styles. The fusion of these approaches results in an exciting blend of toe-tapping material\, complemented with meditative and heart-warming melodies. Andrea lives on a small island in Yellowknife in a cozy off-grid cabin with her husband Mike\, her daughter Sadee\, her son Jolliffe\, and her dog Sambaa. \nDigawolf \nDiga is an award-winning Tlicho musician who resides in Yellowknife\, NWT. He has been producing music for over a decade and has 8 studio albums of Tlicho and English language music spanning several genres. Diga performs as Digawolf and has done national and international touring. He has been called “Yellowknife’s answer to Cohen’s Montreal hymns\, Young’s Prairie parables\, Lang’s Albertan anthems\, and Doiron’s Maritime deep cuts.” – Kyle Mullin\, Exclaim!\, February 2019. Digawolf is a Tlicho and English language band. This is a new sound for Digawolf\, combining his classic earthy sound with sound looping\, textures\, and mixes typical of electronic music productions. \nTickets: $10 Live Stream (+applicable fees) \n\nThe Music From the Edges of Canada series includes: \n\nKrystle Dos Santos + Locarno – October 28th\, 2021 – 7:30 pm\nJanet Cull + Irish Mythen – November 7th\, 2021 – 7:30 pm\nRoots & Grooves + Tiller’s Folly – November 20th\, 2021 – 7:30 pm\nSoda Pony + Joëlle Rabu & Nico Rhodes – December 6th\, 2021 – 7:30 pm\nWolf Castle + Les Hôtesses D’Hilaire – January 16th\, 2022 – 7:30 pm\nDiyet + Jim Byrnes – January 22nd\, 2022 – 7:30 pm\nSpeed Control + David Gogo – January 29th\, 2022 – 7:30 pm\nJah’Mila + Kim Harris – February 13th\, 2022 – 7:30 pm\nCarmen Braden + Wesley Hardisty – February 19th\, 2022 – 7:30 pm\nAndrea Bettger + Digawolf – March 2nd\, 2022 – 7:30 pm\nRyan McNally + Blue Moon Marquee – March 27\, 2022 – 7:30 pm\n\n\nTickets: $10 Live Stream (+applicable fees)
URL:https://tidemarktheatre.com/event/andrea-bettger-digawolf-music-from-the-edges-of-canada/
LOCATION:Tidemark Theatre Online Stream\, BC\, Canada
CATEGORIES:Streaming Online
ATTACH;FMTTYPE=image/jpeg:https://tidemarktheatre.com/wp-content/uploads/2021/09/Andrea-Bettger-Digawolf-web.jpg
END:VEVENT
END:VCALENDAR