BEGIN:VCALENDAR
VERSION:2.0
PRODID:-//Tidemark Theatre - ECPv6.15.20//NONSGML v1.0//EN
CALSCALE:GREGORIAN
METHOD:PUBLISH
X-WR-CALNAME:Tidemark Theatre
X-ORIGINAL-URL:https://tidemarktheatre.com
X-WR-CALDESC:Events for Tidemark Theatre
REFRESH-INTERVAL;VALUE=DURATION:PT1H
X-Robots-Tag:noindex
X-PUBLISHED-TTL:PT1H
BEGIN:VTIMEZONE
TZID:America/Vancouver
BEGIN:DAYLIGHT
TZOFFSETFROM:-0800
TZOFFSETTO:-0700
TZNAME:PDT
DTSTART:20210314T100000
END:DAYLIGHT
BEGIN:STANDARD
TZOFFSETFROM:-0700
TZOFFSETTO:-0800
TZNAME:PST
DTSTART:20211107T090000
END:STANDARD
BEGIN:DAYLIGHT
TZOFFSETFROM:-0800
TZOFFSETTO:-0700
TZNAME:PDT
DTSTART:20220313T100000
END:DAYLIGHT
BEGIN:STANDARD
TZOFFSETFROM:-0700
TZOFFSETTO:-0800
TZNAME:PST
DTSTART:20221106T090000
END:STANDARD
BEGIN:DAYLIGHT
TZOFFSETFROM:-0800
TZOFFSETTO:-0700
TZNAME:PDT
DTSTART:20230312T100000
END:DAYLIGHT
BEGIN:STANDARD
TZOFFSETFROM:-0700
TZOFFSETTO:-0800
TZNAME:PST
DTSTART:20231105T090000
END:STANDARD
END:VTIMEZONE
BEGIN:VEVENT
DTSTART;TZID=America/Vancouver:20220605T190000
DTEND;TZID=America/Vancouver:20220605T210000
DTSTAMP:20260423T223514
CREATED:20220427T231136Z
LAST-MODIFIED:20220427T231136Z
UID:8669-1654455600-1654462800@tidemarktheatre.com
SUMMARY:Twenty Twenty-Two
DESCRIPTION:Urban Dance Connection presents their year-end recital: Twenty Twenty-Two. \nSunday\, June 5 at 2:00 PM & 7:00 PM \nTickets: $28 Adults\, $26 Students/Seniors\, $15 Live Stream (7:00 pm only) (+applicable taxes and fees) \nOn sale May 1 at 10 am! \nBabes in Arms: Each person REGARDLESS OF AGE must have a valid ticket to enter a performance. If you have an infant under the age of two who will be sitting on your lap\, please let our Box Office know and we will issue a complimentary ticket for your infant. All persons age two and up must have paid admission.
URL:https://tidemarktheatre.com/event/twenty-twenty-two-2/
LOCATION:Tidemark Theatre\, 1220 Shoppers Row\, Campbell River\, BC\, V9W 2C8\, Canada
CATEGORIES:At the Tidemark,Streaming Online
ATTACH;FMTTYPE=image/jpeg:https://tidemarktheatre.com/wp-content/uploads/2022/04/Twenty-Twenty-Two-web.jpg
END:VEVENT
BEGIN:VEVENT
DTSTART;TZID=America/Vancouver:20220612T180000
DTEND;TZID=America/Vancouver:20220612T200000
DTSTAMP:20260423T223514
CREATED:20220510T210342Z
LAST-MODIFIED:20220510T225446Z
UID:8731-1655056800-1655064000@tidemarktheatre.com
SUMMARY:Season Finale
DESCRIPTION:Studio North’s Performance Team and Recreational Programs hit the stage together to show off what they have been working on this season! This show will be an entertaining mix of award winning performances and stage premiers from our dancers in all styles of dance! \nTickets: $28 Adult\, $26 Student/Senior\, $26 Live Stream (+applicable taxes & fees)
URL:https://tidemarktheatre.com/event/season-finale/
LOCATION:Tidemark Theatre\, 1220 Shoppers Row\, Campbell River\, BC\, V9W 2C8\, Canada
CATEGORIES:At the Tidemark,Streaming Online
ATTACH;FMTTYPE=image/jpeg:https://tidemarktheatre.com/wp-content/uploads/2022/05/Season-Finale-web.jpg
END:VEVENT
BEGIN:VEVENT
DTSTART;TZID=America/Vancouver:20220618T193000
DTEND;TZID=America/Vancouver:20220618T213000
DTSTAMP:20260423T223514
CREATED:20220421T230927Z
LAST-MODIFIED:20220421T230927Z
UID:8681-1655580600-1655587800@tidemarktheatre.com
SUMMARY:PRIDE at the Tide
DESCRIPTION:The Tidemark Theatre and North Island Pride are excited to present\, PRIDE at the Tide – Campbell River’s 2022 PRIDE party event! \nThe Queen of East Van\, Isolde N. Barron\, is back alongside her Baddest B!&@h\, Peach Cobblah\, to host a hybrid pride experience. Celebrations will kick off with an interactive drag show and a guest performance by Valley Girls Dance\, followed by a dance party with special musical guests\, Queer As Funk! Join the celebration in person at the theatre\, or purchase a live stream ticket and enjoy from the comfort of your home. \nQueer As Funk \nVancouver’s hottest dance band is coming to the Tidemark Theatre! Infectious grooves with powerhouse vocals\, tight horns and rhythms that just won’t quit\, Queer As Funk’s repertoire ranges from beloved funk\, soul and Motown classics\, to contemporary pop favourites that will have you on the dance floor all night long. There’s nothing this tight-knit band of talented musicians love more than performing together and that love is palpable to audiences everywhere. Their shows always sell out so get you tickets early! \n“There’s nowt so queer as folk”\, or so the old English adage goes. Queer As Funk believes in celebrating differences\, and what better way than with a big ol’ dance party? \nIsolde N. Barron \nOriginally from South Africa\, Cameron is a Vancouver-based director\, producer and drag queen. As The Queen of East Van\, Isolde N. Barron\, she hosts The Barron Gurl Show every week in Vancouver’s West End\, as well as Drag 101\, a monthly show at UBC’s Pit Pub. As the Queen Mother of the Cobalt\, a space she helped transform into a vital queer hub\, she hosted her own weekly show Apocalypstick for two years and was a monthly fixture at Queer Bash\, East Van’s premiere queer dance party. She is currently the head judge ushering in new talent for the Mr/Miss Cobalt Competition\, in its 7th year. \nIn boy form he produces & curates Club PuSh for the PuSh International Performing Arts Festival and is founder and Managing Artistic Director of Zee Zee Theatre celebrating their tenth season. He is a critically acclaimed director and graduate of Studio 58 who further trained with Pochinko clown master\, John Turner. \nPeach Cobblah \nPeach Cobblah is known as the Baddest B&*#h of Vancouver. With her wife Isolde N. Barron she co-created Tucked & Plucked: Drag Herstory Live Onstage which has appeared extensively over the past six years. Peach created and for the past four years has hosted Shame Spiral\, a devilishly regretful weekly drag show at 1181 in Vancouver’s West End. She also helped revive the queer East Van scene with events like HUSTLA\, the city’s original queer hip hop event\, The Gay Agenda: Glitter & Skin\, a monthly party celebrating all forms of masculinity\, the annual Mr/Miss Cobalt Drag Competition\, Eye Roll: Another F$%*ing 90s Party\, and Limp Wrist\, celebrating queer icons. She can be seen sweating and swaying all over town in her monthly and pop-up events like Drag 101 at UBC and Queen\, Eggs\, and Ham\, a delicious an devilish brunch show. She appeared as Hanna the Dominatrix in The Vancouver Playhouse’s final production\, La Cage Aux Folles. Out of drag Peach is known as award-winning playwright Dave Deveau whose plays have been touring Canada and the US for the past six years. \nTickets: $17 Non-Members\, $12 Youth & TTS Members\, $10 Live Stream (+applicable taxes and fees)
URL:https://tidemarktheatre.com/event/pride-at-the-tide/
LOCATION:Tidemark Theatre\, 1220 Shoppers Row\, Campbell River\, BC\, V9W 2C8\, Canada
CATEGORIES:At the Tidemark,Streaming Online
ATTACH;FMTTYPE=image/jpeg:https://tidemarktheatre.com/wp-content/uploads/2022/04/22pride-web.jpg
END:VEVENT
BEGIN:VEVENT
DTSTART;TZID=America/Vancouver:20220619T190000
DTEND;TZID=America/Vancouver:20220619T210000
DTSTAMP:20260423T223514
CREATED:20220422T190913Z
LAST-MODIFIED:20220422T190913Z
UID:8690-1655665200-1655672400@tidemarktheatre.com
SUMMARY:Stars of Tomorrow 2022
DESCRIPTION:Kathy Mascia School of Dance presents their annual year end recital Stars of Tomorrow 2022. Our talented dancers will be showcasing a variety of styles of dance to entertain you\, including Tap\, Ballet\, Jazz\, Lyrical\, Hip Hop and Pointe. Sit back and enjoy the show! \nTickets: $26 Adult\, $23 Student/Senior\, $15 Streaming (7:00 pm only) (+applicable taxes and fees) \nBabes in Arms: As per fire regulations\, every body that goes into the auditorium must have a ticket\, including infants. Babes in arms under the age of two are allowed into the Viewing Room with a ticketed adult for no extra charge.
URL:https://tidemarktheatre.com/event/stars-of-tomorrow-2022-2/
LOCATION:Tidemark Theatre\, 1220 Shoppers Row\, Campbell River\, BC\, V9W 2C8\, Canada
CATEGORIES:At the Tidemark,Streaming Online
ATTACH;FMTTYPE=image/jpeg:https://tidemarktheatre.com/wp-content/uploads/2022/04/KM-SoT-22-web.jpg
END:VEVENT
BEGIN:VEVENT
DTSTART;TZID=America/Vancouver:20220630T190000
DTEND;TZID=America/Vancouver:20220630T210000
DTSTAMP:20260423T223514
CREATED:20220509T221044Z
LAST-MODIFIED:20220510T170849Z
UID:8726-1656615600-1656622800@tidemarktheatre.com
SUMMARY:Flourish
DESCRIPTION:Solstice Studio proudly presents “Flourish”. \nAll our Dancers and Actor’s from ages 3 to 18 will be performing on stage for the first time in two years for a live audience! We are thrilled to invite you to be apart of our show to watch what our young rising stars have prepared just for you. Flourish is a show with a blend of acting and dancing. Please cheer our performers on and have a great time with us! Everyone is welcome to attend. \nTickets: $26 Adult\, $23 Student/Senior. $15 Live Stream (+applicable taxes & fees)
URL:https://tidemarktheatre.com/event/flourish/
LOCATION:Tidemark Theatre\, 1220 Shoppers Row\, Campbell River\, BC\, V9W 2C8\, Canada
CATEGORIES:At the Tidemark,Streaming Online
ATTACH;FMTTYPE=image/jpeg:https://tidemarktheatre.com/wp-content/uploads/2022/05/Flourish-web.jpg
END:VEVENT
END:VCALENDAR