BEGIN:VCALENDAR
VERSION:2.0
PRODID:-//Tidemark Theatre - ECPv6.15.20//NONSGML v1.0//EN
CALSCALE:GREGORIAN
METHOD:PUBLISH
X-ORIGINAL-URL:https://tidemarktheatre.com
X-WR-CALDESC:Events for Tidemark Theatre
REFRESH-INTERVAL;VALUE=DURATION:PT1H
X-Robots-Tag:noindex
X-PUBLISHED-TTL:PT1H
BEGIN:VTIMEZONE
TZID:America/Vancouver
BEGIN:DAYLIGHT
TZOFFSETFROM:-0800
TZOFFSETTO:-0700
TZNAME:PDT
DTSTART:20210314T100000
END:DAYLIGHT
BEGIN:STANDARD
TZOFFSETFROM:-0700
TZOFFSETTO:-0800
TZNAME:PST
DTSTART:20211107T090000
END:STANDARD
BEGIN:DAYLIGHT
TZOFFSETFROM:-0800
TZOFFSETTO:-0700
TZNAME:PDT
DTSTART:20220313T100000
END:DAYLIGHT
BEGIN:STANDARD
TZOFFSETFROM:-0700
TZOFFSETTO:-0800
TZNAME:PST
DTSTART:20221106T090000
END:STANDARD
BEGIN:DAYLIGHT
TZOFFSETFROM:-0800
TZOFFSETTO:-0700
TZNAME:PDT
DTSTART:20230312T100000
END:DAYLIGHT
BEGIN:STANDARD
TZOFFSETFROM:-0700
TZOFFSETTO:-0800
TZNAME:PST
DTSTART:20231105T090000
END:STANDARD
END:VTIMEZONE
BEGIN:VEVENT
DTSTART;TZID=America/Vancouver:20221002T140000
DTEND;TZID=America/Vancouver:20221002T160000
DTSTAMP:20260423T141701
CREATED:20220825T222053Z
LAST-MODIFIED:20220825T222053Z
UID:8909-1664719200-1664726400@tidemarktheatre.com
SUMMARY:Climate Challenges and the Future of Gardens with Brian Minter
DESCRIPTION:Climate Challenges and the Future of Gardens – Brian Minter \nWe’re all experiencing the new realities of our changing climate\, from extreme heat and atmospheric rivers to intense winter storms and longer\, colder\, wet springs.  The way we garden and the plants we choose to grow must be adaptable to these new challenges. \nAs we lose so many pollinators\, birds and other critical wildlife\, our gardens need to replace lost habitats. We can do this by selecting and growing more pollinator-friendly plants and by creating landscapes that are not only beautiful but are also more functional in terms of wildlife attraction and support. \nThe importance and relevance of gardens has also changed dramatically as they relate to our own health and well-being. \nDon’t miss this opportunity to discover how gardens of the future will function and look. \nCo-presented by the Museum at Campbell River\, the Campbell River Arts Council\, and the Haig-Brown Institute\, the Haig-Brown Lecture was created to honour the legacies of Roderick Haig-Brown\, who is recognized nationally as a celebrated author and conservationist\, and his wife Ann\, who leaves a lasting legacy in Campbell River for her service to the community.  The lectures provide an annual forum for writers to inspire a new generation with their vision for the environment\, social issues and literary excellence. \nBrian Minter \nBrian Minter began sharing his passion for plants with British Columbia’s gardeners when\, in 1970\, he and his wife Faye purchased Country Garden Store\, a garden shop that had been part of Chilliwack’s community since 1957. \nBrian\, a University of British Columbia graduate (BA) and Master Gardener\, quickly became BC’s go-to garden expert through his experience at both the garden centre and the display gardens. As such\, He has hosted countless radio and television shows\, is a frequent gardening columnist and is the author of Canadian Best Seller\, ‘Brian Minter’s New Gardening Guide – Fresh Approaches for Canadian Gardeners’. \nA recipient of the ‘Order of Canada’\, the ‘Order of British Columbia’\, an ‘Honorary Doctorate of Technology’\, and many other awards\, Brian is well known from his magazine and syndicated newspaper columns and TV and radio programs. Brian is in demand as a speaker by industry and gardening groups alike. Brian has sat on the boards of many community organizations including past Chancellor of the University of the Fraser Valley. Brian received an Award of Merit from the Perennial Plant Association in recognition of outstanding contributions to the perennial industry and was also inducted into the Gardening Writers Association’s Hall of Fame ‘in recognition of a lifetime of exceptional work and spirit promoting gardening and garden communications to the public.’ He currently writes garden-inspired articles for The Vancouver Sun and several Black Press papers in the Fraser Valley and is on CBC Radio (BC Almanac) every other Friday at 12:30pm. \nIn 1977\, the Minters discovered a piece of land nestled beneath Mt. Cheam and by 1980\, that passion for plants was transformed into 32-acre\, world-famous Minter Gardens. After many enjoyable years\, the Minter family made the decision to close the Gardens in the fall of 2013 and to focus their energies on Minter Country Garden Store\, which is still growing strong! \nTickets: $15 Admission In Person and Live Stream (+applicable taxes & fees)
URL:https://tidemarktheatre.com/event/climate-challenges-and-the-future-of-gardens-with-brian-minter/
LOCATION:Tidemark Theatre\, 1220 Shoppers Row\, Campbell River\, BC\, V9W 2C8\, Canada
CATEGORIES:At the Tidemark,Streaming Online
ATTACH;FMTTYPE=image/jpeg:https://tidemarktheatre.com/wp-content/uploads/2022/08/Brian-Minter-talk-web.jpg
END:VEVENT
BEGIN:VEVENT
DTSTART;TZID=America/Vancouver:20221005T190000
DTEND;TZID=America/Vancouver:20221005T210000
DTSTAMP:20260423T141701
CREATED:20220913T220030Z
LAST-MODIFIED:20220921T213636Z
UID:8971-1664996400-1665003600@tidemarktheatre.com
SUMMARY:All Candidates School Board Trustee Debate
DESCRIPTION:The Campbell River & District Chamber of Commerce\, The Campbell River Mirror and the Tidemark Theatre Society are co-hosting All Candidate debates at the Tidemark Theatre — we look forward to offering this opportunity to you\, the candidates\, for the upcoming BC municipal elections! \nThe public is invited to come to the Tidemark Theatre in person. Seats will be first come\, first served. The debates will also be streamed LIVE on both the CR Mirror Facebook page AND the Tidemark Theatre website. Following the live events\, the recordings will be posted on the Chamber’s YouTube channel. \nMembers of the public are invited to submit their questions to exdir@crchamber.ca \nCampbell River School Board Trustee Candidates: \n\nKat Eddy (incumbent)\nCraig Gillis\nDaryl Hagen (incumbent)\nDave Harper\nAlaina Kelly\nJoyce McMann (incumbent)\nKim Yaciuk
URL:https://tidemarktheatre.com/event/all-candidates-school-board-trustee-debate/
LOCATION:Tidemark Theatre\, 1220 Shoppers Row\, Campbell River\, BC\, V9W 2C8\, Canada
CATEGORIES:At the Tidemark,Streaming Online
ATTACH;FMTTYPE=image/jpeg:https://tidemarktheatre.com/wp-content/uploads/2022/09/Debate-Graphic-2022-web-1.jpg
END:VEVENT
BEGIN:VEVENT
DTSTART;TZID=America/Vancouver:20221011T193000
DTEND;TZID=America/Vancouver:20221011T213000
DTSTAMP:20260423T141701
CREATED:20220627T160820Z
LAST-MODIFIED:20220627T160820Z
UID:8811-1665516600-1665523800@tidemarktheatre.com
SUMMARY:PIQSIQ
DESCRIPTION:With a style perpetually galvanized by darkness and haunting northern beauty\, sisters\, Tiffany Ayalik and Inuksuk Mackay\, come together to create Inuit style throat singing duo\, PIQSIQ. Performing ancient traditional songs and eerie new compositions\, they leave their listeners enthralled with the infinity of possible answers to the question “what is the meaning of life.” \nWith roots in Nunavut’s Kitikmeot and Kivalliq Regions\, the sisters grew up in Yellowknife\, Northwest Territories. Their love of katajjaq\, Inuit throat singing\, began in childhood and has bonded them together throughout their lives. After years of forging hard won skill\, they developed their own form blended with their love of haunting melodies and otherworldly sounds. \nAs PIQSIQ\, they perform improvisational looping live\, creating a dynamic audience experience that changes with every show. PIQSIQ incorporates their dark and ethereal style into their recordings and have produced four studio albums to date. \nInuksuk and Tiffany continue to blend magic with sound to further develop their entrancing style for both national and international audiences. \nTickets: $32 Members\, $37 Non-Members\, $15 Live Stream (+applicable taxes & fees)
URL:https://tidemarktheatre.com/event/piqsiq/
LOCATION:Tidemark Theatre\, 1220 Shoppers Row\, Campbell River\, BC\, V9W 2C8\, Canada
CATEGORIES:At the Tidemark,Streaming Online
ATTACH;FMTTYPE=image/jpeg:https://tidemarktheatre.com/wp-content/uploads/2022/06/PIQSIQ_Website_1600x900.jpg
END:VEVENT
BEGIN:VEVENT
DTSTART;TZID=America/Vancouver:20221015T193000
DTEND;TZID=America/Vancouver:20221015T213000
DTSTAMP:20260423T141701
CREATED:20220812T173038Z
LAST-MODIFIED:20220812T173038Z
UID:8874-1665862200-1665869400@tidemarktheatre.com
SUMMARY:Wearable Art Show
DESCRIPTION:The Wearable Art Show\nExtravagant\, Dazzling & Fun! \nFrom the wildly absurd\, to the serenity of a single petal\, to the magic of mermaids and the sea\, the inspiration for wearable art can be all of these.\n…Or something completely different. \nThe Wearable Art Show is essentially a fashion show of the most extravagant kind.  Exquisite\, breathtaking and avant-garde costumes are created by Campbell River’s brilliant artists. \nMany Wearable Art Show designers use upcycled materials for dramatic effect… Imagine an elegant gown made from layers and layers of that red netting from onion bags. How about a shimmery flapper-style dress featuring thousands of linked silver pulltabs from beer cans? You know that tin foil used for colouring hair in salons? Imagine piecing those bits together to create an electrifying design worthy of a magnificent Broadway production. \nThese powerful creations rocked the stage for the 2019 Wearable Art Show. Now we’re back with a bigger entourage to present the season’s hottest event! And it’s not just the allure of high fashion that you’ll love… everyone’s invited to a lively post show reception\, complete with photo booth for selfies with the artists and models! \nPut on your red shoes and get your fabulous self to the Wearable Art Show! \nThe Wearable Art Show is produced by Patrons of the Arts (POTA)\, a fundraising branch of the Campbell River Arts Council. Your ticket purchase will help the local arts community present creative activities for all to enjoy. Thank you! \nTickets: $42 Admission\, $15 Live Stream Admission (+applicable taxes & fees)
URL:https://tidemarktheatre.com/event/wearable-art-show/
LOCATION:Tidemark Theatre\, 1220 Shoppers Row\, Campbell River\, BC\, V9W 2C8\, Canada
CATEGORIES:At the Tidemark,Streaming Online
ATTACH;FMTTYPE=image/jpeg:https://tidemarktheatre.com/wp-content/uploads/2022/08/Wearable-Art-web.jpg
END:VEVENT
END:VCALENDAR