BEGIN:VCALENDAR
VERSION:2.0
PRODID:-//Tidemark Theatre - ECPv6.15.20//NONSGML v1.0//EN
CALSCALE:GREGORIAN
METHOD:PUBLISH
X-ORIGINAL-URL:https://tidemarktheatre.com
X-WR-CALDESC:Events for Tidemark Theatre
REFRESH-INTERVAL;VALUE=DURATION:PT1H
X-Robots-Tag:noindex
X-PUBLISHED-TTL:PT1H
BEGIN:VTIMEZONE
TZID:America/Vancouver
BEGIN:DAYLIGHT
TZOFFSETFROM:-0800
TZOFFSETTO:-0700
TZNAME:PDT
DTSTART:20210314T100000
END:DAYLIGHT
BEGIN:STANDARD
TZOFFSETFROM:-0700
TZOFFSETTO:-0800
TZNAME:PST
DTSTART:20211107T090000
END:STANDARD
BEGIN:DAYLIGHT
TZOFFSETFROM:-0800
TZOFFSETTO:-0700
TZNAME:PDT
DTSTART:20220313T100000
END:DAYLIGHT
BEGIN:STANDARD
TZOFFSETFROM:-0700
TZOFFSETTO:-0800
TZNAME:PST
DTSTART:20221106T090000
END:STANDARD
BEGIN:DAYLIGHT
TZOFFSETFROM:-0800
TZOFFSETTO:-0700
TZNAME:PDT
DTSTART:20230312T100000
END:DAYLIGHT
BEGIN:STANDARD
TZOFFSETFROM:-0700
TZOFFSETTO:-0800
TZNAME:PST
DTSTART:20231105T090000
END:STANDARD
END:VTIMEZONE
BEGIN:VEVENT
DTSTART;TZID=America/Vancouver:20221210T190000
DTEND;TZID=America/Vancouver:20221210T210000
DTSTAMP:20260423T115330
CREATED:20221102T190945Z
LAST-MODIFIED:20221102T190945Z
UID:9061-1670698800-1670706000@tidemarktheatre.com
SUMMARY:The Nutcracker
DESCRIPTION:Visit the magical land of sweets\, waltz with the snowflakes and leave with visions of Sugar Plums dancing in your head… \nStudent Dancers from Campbell River and Port Alberni\, are joined by professional guests\, Marsha Kwan\, Giovanni Giordano and Alex Lobo and the children’s classes from Studio North Dance Academy to bring this holiday classic Ballet to the stage. \nThe Nutcracker is a timeless classic\, for audience members of all ages and a wonderful way to kick off your holiday season. \nTickets: $28 Admission\, $20 Streaming (+applicable taxes and fees)
URL:https://tidemarktheatre.com/event/the-nutcracker-2022/
LOCATION:Tidemark Theatre\, 1220 Shoppers Row\, Campbell River\, BC\, V9W 2C8\, Canada
CATEGORIES:At the Tidemark,Streaming Online
ATTACH;FMTTYPE=image/jpeg:https://tidemarktheatre.com/wp-content/uploads/2022/11/NUTCRACKER-web.jpg
END:VEVENT
BEGIN:VEVENT
DTSTART;TZID=America/Vancouver:20221211T180000
DTEND;TZID=America/Vancouver:20221211T200000
DTSTAMP:20260423T115330
CREATED:20221110T002902Z
LAST-MODIFIED:20221110T002902Z
UID:9070-1670781600-1670788800@tidemarktheatre.com
SUMMARY:A December to Remember
DESCRIPTION:Come join Urban Dance for a holiday mash up for the entire family as we welcome new and old dancers and families to the joy of the stage in a December to Remember… \nTickets: $22.25 Admission\, $19.50 Streaming (+applicable taxes & fees)
URL:https://tidemarktheatre.com/event/a-december-to-remember/
LOCATION:Tidemark Theatre\, 1220 Shoppers Row\, Campbell River\, BC\, V9W 2C8\, Canada
CATEGORIES:At the Tidemark,Streaming Online
ATTACH;FMTTYPE=image/jpeg:https://tidemarktheatre.com/wp-content/uploads/2022/11/A-December-to-Remember-web.jpg
END:VEVENT
BEGIN:VEVENT
DTSTART;TZID=America/Vancouver:20221212T183000
DTEND;TZID=America/Vancouver:20221212T203000
DTSTAMP:20260423T115330
CREATED:20221107T200241Z
LAST-MODIFIED:20221205T231939Z
UID:9065-1670869800-1670877000@tidemarktheatre.com
SUMMARY:Crime Prevention Through Environmental Design
DESCRIPTION:Crime Prevention Through Environmental Design (CPTED) focuses on how we design our spaces to reduce fear and incidence of crime and improve quality of life. During this event\, Greg Perkins from Liahona Security will explore CPTED strategies tailored to Campbell River and answer any questions participants may have. \nAdmission is free – Reserve your seat today!
URL:https://tidemarktheatre.com/event/crime-prevention-evening/
LOCATION:Tidemark Theatre\, 1220 Shoppers Row\, Campbell River\, BC\, V9W 2C8\, Canada
CATEGORIES:At the Tidemark,Streaming Online
ATTACH;FMTTYPE=image/jpeg:https://tidemarktheatre.com/wp-content/uploads/2022/11/CPTED-web.jpg
END:VEVENT
BEGIN:VEVENT
DTSTART;TZID=America/Vancouver:20221214T193000
DTEND;TZID=America/Vancouver:20221214T193000
DTSTAMP:20260423T115330
CREATED:20220916T181516Z
LAST-MODIFIED:20221122T192240Z
UID:8990-1671046200-1671046200@tidemarktheatre.com
SUMMARY:Festive Brass
DESCRIPTION:An exciting west coast premiere holiday concert celebrating the dynamic and engaging sounds of the season with brass! \nAcclaimed Victoria based brass ensemble The Festive Brass bring an exhilarating and appropriately festive concert on tour of Vancouver Island for the first time. Featuring over 1.5 hours of seasonal favorites ‘HOLIDAY HORNS!’ will have you feeling the spirit of the season all through the evening. \nBrilliant and quirky arrangements of classic holiday tunes performed by a 12 piece brass and percussion ensemble will leave audiences with a warm and nostalgic feeling this holiday season. \nFeatured musical selections include the beautiful “White Christmas”\, Latin party style “Feliz Navidad”\, a “Funky Little Drummer Boy”\, some New Orleans “Frosty the Snowman” and “Santa Claus is Coming to Town” and of course\, Festive Brass’s infamously twisted “Rudolph Variations.” \nSignature Festive Brass sound will be heard: Brassy\, big\, bold\, jazzy fun! \nTickets: $30 Members\, $35 Non-Members\, $15 Live Stream (+applicable taxes & fees)
URL:https://tidemarktheatre.com/event/festive-brass/
LOCATION:Tidemark Theatre\, 1220 Shoppers Row\, Campbell River\, BC\, V9W 2C8\, Canada
CATEGORIES:At the Tidemark,Streaming Online
ATTACH;FMTTYPE=image/jpeg:https://tidemarktheatre.com/wp-content/uploads/2022/09/FestiveBrass-WebsiteHeader-1600x900-1.jpg
END:VEVENT
BEGIN:VEVENT
DTSTART;TZID=America/Vancouver:20221215T193000
DTEND;TZID=America/Vancouver:20221215T213000
DTSTAMP:20260423T115330
CREATED:20220803T203838Z
LAST-MODIFIED:20221108T182354Z
UID:8864-1671132600-1671139800@tidemarktheatre.com
SUMMARY:Valdy featuring Karel Roessingh
DESCRIPTION:One of Canada’s most beloved performers\, Valdy has earned admiration from fans and critics during a career spanning five decades. \n“Like a bright ray of sunshine on a cloudy day\, Valdy bounces onto the stage and the magic begins” \nHe began performing as a solo artist\, and in 1972 recorded his “Rock and Roll Song” on Haida/A&M; it became a hit. His music was featured in the 1972 Steve McQueen film The Getaway. After that\, his career never looked back. Touring has been his life since. \nValdy has toured Canada for forty-six years and plays regularly in New Zealand with Kiwi mate Graham Wardrop. He has also toured Austria\, Denmark\, Germany\, Holland\, Spain\, Sweden\, and Switzerland\, and is an oft-invited performer at dozens of music festivals\, including the Kerrville Folk Festival in Texas. In 2000 Valdy released the album Contenders with country musician Gary Fjellgaard He continued to tour with Fjellgaard for many years. \n“He’s a master of country\, folk\, rock and blues\, and the catch is that whatever the sound\, people know that Valdy is sincere.”  ~ Saskatoon Star Phoenix \n“Valdy remains one of the country’s purest and most credible storytellers.”  ~ Toronto Star \nKarel Roessingh \nKarel Roessingh has played throughout the world in almost every imaginable venue. He has led bands for Howie Mandel\, Rich Little (and his lesser known brother Fred)\, Bob Newhart\, Shari Lewis (and Lambchop)\, and Ted Knight\, played with Valdy\, The Moody Blues\, Powder Blues Band\, Jann Arden\, The Shirelles\, and Leslie Gore\, and opened for the Temptations (with vocalist April Gislason) and solo for legendary jazz guitarist John Pizzarelli. \nKarel is a rare musician. He doesn’t have anything to grumble about… Being versatile is what has made the difference between Roessingh and so many other talented Victoria musicians who have been unable to earn a reasonable living just playing music. He appears to have played in every imaginable situation\, and the breadth of that experience shows through at a place like the Herald Street Caffe\, where he’s free to play whatever comes to mind. Characteristically\, his playing has nice walking basslines and the chord voicings of a player out of the Berklee School of Music in Boston… He’s also fortunate in having zucchini-like fingers that can take 10ths and 11ths with relative ease… Here is a man who has clearly paid his dues\, and the success he’s now enjoying in Victoria is well-deserved.” \nTickets: $30 Member\, $35 Non-Member\, $15 Live Stream (+applicable taxes & fees)
URL:https://tidemarktheatre.com/event/valdy-featuring-karel-roessingh/
LOCATION:Tidemark Theatre\, 1220 Shoppers Row\, Campbell River\, BC\, V9W 2C8\, Canada
CATEGORIES:At the Tidemark,Streaming Online
ATTACH;FMTTYPE=image/jpeg:https://tidemarktheatre.com/wp-content/uploads/2022/08/Valdy-web.jpg
END:VEVENT
BEGIN:VEVENT
DTSTART;TZID=America/Vancouver:20221217T190000
DTEND;TZID=America/Vancouver:20221217T210000
DTSTAMP:20260423T115330
CREATED:20220929T210824Z
LAST-MODIFIED:20220929T210824Z
UID:9014-1671303600-1671310800@tidemarktheatre.com
SUMMARY:The Night Before
DESCRIPTION:Join us for an epic night out as Valley Girls Dance hosts their second annual Christmas show! 🎉 \nValley Girls is a Heels Training & Performance Program that embraces all bodies\, all levels & all ages (18+). \n“The Night Before” is a high energy\, empowering show featuring adult dancers of all ages; from absolute beginner to professional. 👠 \nThis show is an opportunity for everyone\, no matter their shape\, size\, or experience\, to live out their dream of performing on a stage & unleash their inner Pussycat Doll! ✨ \nTickets: $42.50 Admission\, $22.50 Live Stream (+applicable taxes & fees) On sale October 5th at 10 am!
URL:https://tidemarktheatre.com/event/the-night-before/
LOCATION:Tidemark Theatre\, 1220 Shoppers Row\, Campbell River\, BC\, V9W 2C8\, Canada
CATEGORIES:At the Tidemark,Streaming Online
ATTACH;FMTTYPE=image/jpeg:https://tidemarktheatre.com/wp-content/uploads/2022/09/The-Night-Before-web.jpg
END:VEVENT
END:VCALENDAR