BEGIN:VCALENDAR
VERSION:2.0
PRODID:-//Tidemark Theatre - ECPv6.15.20//NONSGML v1.0//EN
CALSCALE:GREGORIAN
METHOD:PUBLISH
X-ORIGINAL-URL:https://tidemarktheatre.com
X-WR-CALDESC:Events for Tidemark Theatre
REFRESH-INTERVAL;VALUE=DURATION:PT1H
X-Robots-Tag:noindex
X-PUBLISHED-TTL:PT1H
BEGIN:VTIMEZONE
TZID:America/Vancouver
BEGIN:DAYLIGHT
TZOFFSETFROM:-0800
TZOFFSETTO:-0700
TZNAME:PDT
DTSTART:20220313T100000
END:DAYLIGHT
BEGIN:STANDARD
TZOFFSETFROM:-0700
TZOFFSETTO:-0800
TZNAME:PST
DTSTART:20221106T090000
END:STANDARD
BEGIN:DAYLIGHT
TZOFFSETFROM:-0800
TZOFFSETTO:-0700
TZNAME:PDT
DTSTART:20230312T100000
END:DAYLIGHT
BEGIN:STANDARD
TZOFFSETFROM:-0700
TZOFFSETTO:-0800
TZNAME:PST
DTSTART:20231105T090000
END:STANDARD
BEGIN:DAYLIGHT
TZOFFSETFROM:-0800
TZOFFSETTO:-0700
TZNAME:PDT
DTSTART:20240310T100000
END:DAYLIGHT
BEGIN:STANDARD
TZOFFSETFROM:-0700
TZOFFSETTO:-0800
TZNAME:PST
DTSTART:20241103T090000
END:STANDARD
END:VTIMEZONE
BEGIN:VEVENT
DTSTART;TZID=America/Vancouver:20230224T193000
DTEND;TZID=America/Vancouver:20230224T213000
DTSTAMP:20260423T085426
CREATED:20221124T190523Z
LAST-MODIFIED:20230116T234911Z
UID:9102-1677267000-1677274200@tidemarktheatre.com
SUMMARY:The Marc Atkinson Trio
DESCRIPTION:Marc Atkinson is one of Canada’s finest JUNO-nominated\, Western Canadian award-winning musicians. HIs latest CD of solo guitar entitled  ‘Solo’ won  best instrumental album of the year with CFMA. He is the leader and composer of the internationally renowned Marc Atkinson Trio (and co-founder\, composer and performer in the acclaimed\, The Bills). The music of this virtuosic group is melodically captivating\, sensually charged and ferociously\, technically awe-inspiring. Embracing a lifetime of musical influences\,  The Trio\, formed in 2000\, has toured North America\, England and Europe and has received standing ovations everywhere they perform from the Montreal Jazz Festival to the Vancouver International Folk Festival to DjangoFest Northwest. When he is not touring he is busy the Producer of music at his home studio ‘The Barn Studio’ having recorded over 100 albums. \n“top-drawer picking… an inventive composer…a truly original voice.” Acoustic Guitar Magazine \nTickets: $30 Member\, $35 Non-Member\, $15 Live Stream (+applicable taxes & fees)
URL:https://tidemarktheatre.com/event/the-marc-atkinson-trio/
LOCATION:Tidemark Theatre\, 1220 Shoppers Row\, Campbell River\, BC\, V9W 2C8\, Canada
CATEGORIES:At the Tidemark,Streaming Online
ATTACH;FMTTYPE=image/jpeg:https://tidemarktheatre.com/wp-content/uploads/2022/11/MA-Trio_Website_1600x900.jpg
END:VEVENT
END:VCALENDAR