BEGIN:VCALENDAR
VERSION:2.0
PRODID:-//Tidemark Theatre - ECPv6.15.20//NONSGML v1.0//EN
CALSCALE:GREGORIAN
METHOD:PUBLISH
X-ORIGINAL-URL:https://tidemarktheatre.com
X-WR-CALDESC:Events for Tidemark Theatre
REFRESH-INTERVAL;VALUE=DURATION:PT1H
X-Robots-Tag:noindex
X-PUBLISHED-TTL:PT1H
BEGIN:VTIMEZONE
TZID:America/Vancouver
BEGIN:DAYLIGHT
TZOFFSETFROM:-0800
TZOFFSETTO:-0700
TZNAME:PDT
DTSTART:20240310T100000
END:DAYLIGHT
BEGIN:STANDARD
TZOFFSETFROM:-0700
TZOFFSETTO:-0800
TZNAME:PST
DTSTART:20241103T090000
END:STANDARD
BEGIN:DAYLIGHT
TZOFFSETFROM:-0800
TZOFFSETTO:-0700
TZNAME:PDT
DTSTART:20250309T100000
END:DAYLIGHT
BEGIN:STANDARD
TZOFFSETFROM:-0700
TZOFFSETTO:-0800
TZNAME:PST
DTSTART:20251102T090000
END:STANDARD
BEGIN:DAYLIGHT
TZOFFSETFROM:-0800
TZOFFSETTO:-0700
TZNAME:PDT
DTSTART:20260308T100000
END:DAYLIGHT
BEGIN:STANDARD
TZOFFSETFROM:-0700
TZOFFSETTO:-0800
TZNAME:PST
DTSTART:20261101T090000
END:STANDARD
END:VTIMEZONE
BEGIN:VEVENT
DTSTART;TZID=America/Vancouver:20250127T130000
DTEND;TZID=America/Vancouver:20250127T140000
DTSTAMP:20260421T225752
CREATED:20250110T203140Z
LAST-MODIFIED:20250110T203140Z
UID:11005-1737982800-1737986400@tidemarktheatre.com
SUMMARY:The Jellyfish Project Live Stream
DESCRIPTION:Join us for an inspiring afternoon that blends live music\, creativity\, and real-world solutions to tackle the environmental challenges of our time. \nThis year’s Family Literacy Day at the Tidemark Theatre features The Jellyfish Project – Hope in Action. Combining powerful storytelling\, live music\, and engaging visuals\, this event is all about equipping young people and families with the knowledge and motivation to take meaningful steps toward a sustainable future. \nThe event includes a performance by Carmine\, an alt-rock band from Victoria\, BC\, whose energetic sound and thoughtful message are sure to captivate audiences. With bold visuals\, interactive moments\, and an uplifting call to action\, The Jellyfish Project is an experience that will leave you inspired and informed. \nWhether you’re passionate about the planet\, love live music\, or are looking for a fun\, educational event for the whole family\, this is an afternoon you won’t want to miss. \nThis performance is made possible in part by Theatre Angels donations. Please consider making a donation to Theatre Angels today! \nLimited in person tickets available free of charge\, we ask that you contact the box office to reserve your tickets. Tickets are available starting at 12 pm Friday\, January 10th 2025.  There are unlimited Live Stream tickets available. \nFirst come\, first served. \nLimit 4 tickets per household. \nPlease indicate at the time of reservation if you require wheelchair seating. \nIf your tickets are not scanned in 15 minutes before the performance\, we will release your tickets to other patrons. \nIf you are not able to get tickets ahead of time\, please come check at the Box Office on Family Literacy Day! \nEvery body that goes into the auditorium MUST have a ticket\, including infants.
URL:https://tidemarktheatre.com/event/the-jellyfish-project-live-stream/
LOCATION:Tidemark Theatre\, 1220 Shoppers Row\, Campbell River\, BC\, V9W 2C8\, Canada
CATEGORIES:At the Tidemark,Streaming Online
ATTACH;FMTTYPE=image/jpeg:https://tidemarktheatre.com/wp-content/uploads/2025/01/Jellyfish-2025-WEB-BANNER.jpg
END:VEVENT
END:VCALENDAR