BEGIN:VCALENDAR
VERSION:2.0
PRODID:-//Tidemark Theatre - ECPv6.15.20//NONSGML v1.0//EN
CALSCALE:GREGORIAN
METHOD:PUBLISH
X-ORIGINAL-URL:https://tidemarktheatre.com
X-WR-CALDESC:Events for Tidemark Theatre
REFRESH-INTERVAL;VALUE=DURATION:PT1H
X-Robots-Tag:noindex
X-PUBLISHED-TTL:PT1H
BEGIN:VTIMEZONE
TZID:America/Vancouver
BEGIN:DAYLIGHT
TZOFFSETFROM:-0800
TZOFFSETTO:-0700
TZNAME:PDT
DTSTART:20240310T100000
END:DAYLIGHT
BEGIN:STANDARD
TZOFFSETFROM:-0700
TZOFFSETTO:-0800
TZNAME:PST
DTSTART:20241103T090000
END:STANDARD
BEGIN:DAYLIGHT
TZOFFSETFROM:-0800
TZOFFSETTO:-0700
TZNAME:PDT
DTSTART:20250309T100000
END:DAYLIGHT
BEGIN:STANDARD
TZOFFSETFROM:-0700
TZOFFSETTO:-0800
TZNAME:PST
DTSTART:20251102T090000
END:STANDARD
BEGIN:DAYLIGHT
TZOFFSETFROM:-0800
TZOFFSETTO:-0700
TZNAME:PDT
DTSTART:20260308T100000
END:DAYLIGHT
BEGIN:STANDARD
TZOFFSETFROM:-0700
TZOFFSETTO:-0800
TZNAME:PST
DTSTART:20261101T090000
END:STANDARD
END:VTIMEZONE
BEGIN:VEVENT
DTSTART;TZID=America/Vancouver:20250422T163000
DTEND;TZID=America/Vancouver:20250422T183000
DTSTAMP:20260421T182256
CREATED:20250327T192816Z
LAST-MODIFIED:20250422T221331Z
UID:11205-1745339400-1745346600@tidemarktheatre.com
SUMMARY:2025 Federal All Candidate Debate OFFICIALLY CANCELLED
DESCRIPTION:The 2025 Federal All Candidate Debate for the North Island—Powell River riding is brought to you by the Vancouver Island Real Estate Board. \nThere are 5 candidates vying for the North Island—Powell River seat: \n\nAaron Gunn (Conservative Party)\nTanille Johnston (New Democratic Party)\nJennifer Lash (Liberal Party)\nPaul Macknight (People’s Party)\nJessica Wegg (Green Party)\n\nThe debate will be LIVE STREAMED below. A recording of the debate will air on Rogers Community TV. \nDoors will open to the public at the Tidemark Theatre at 4:00pm and seating will be on a first come first serve basis.
URL:https://tidemarktheatre.com/event/2025-federal-all-candidate-debate/
LOCATION:Tidemark Theatre\, 1220 Shoppers Row\, Campbell River\, BC\, V9W 2C8\, Canada
CATEGORIES:At the Tidemark,Free Event,Hybrid Live and Streaming,Streaming Online
ATTACH;FMTTYPE=image/png:https://tidemarktheatre.com/wp-content/uploads/2025/03/Untitled-2-1056-x-480-Federal-Tidemark-sizing.png
END:VEVENT
END:VCALENDAR