BEGIN:VCALENDAR
VERSION:2.0
PRODID:-//Tidemark Theatre - ECPv6.15.20//NONSGML v1.0//EN
CALSCALE:GREGORIAN
METHOD:PUBLISH
X-WR-CALNAME:Tidemark Theatre
X-ORIGINAL-URL:https://tidemarktheatre.com
X-WR-CALDESC:Events for Tidemark Theatre
REFRESH-INTERVAL;VALUE=DURATION:PT1H
X-Robots-Tag:noindex
X-PUBLISHED-TTL:PT1H
BEGIN:VTIMEZONE
TZID:America/Vancouver
BEGIN:DAYLIGHT
TZOFFSETFROM:-0800
TZOFFSETTO:-0700
TZNAME:PDT
DTSTART:20250309T100000
END:DAYLIGHT
BEGIN:STANDARD
TZOFFSETFROM:-0700
TZOFFSETTO:-0800
TZNAME:PST
DTSTART:20251102T090000
END:STANDARD
BEGIN:DAYLIGHT
TZOFFSETFROM:-0800
TZOFFSETTO:-0700
TZNAME:PDT
DTSTART:20260308T100000
END:DAYLIGHT
BEGIN:STANDARD
TZOFFSETFROM:-0700
TZOFFSETTO:-0800
TZNAME:PST
DTSTART:20261101T090000
END:STANDARD
BEGIN:DAYLIGHT
TZOFFSETFROM:-0800
TZOFFSETTO:-0700
TZNAME:PDT
DTSTART:20270314T100000
END:DAYLIGHT
BEGIN:STANDARD
TZOFFSETFROM:-0700
TZOFFSETTO:-0800
TZNAME:PST
DTSTART:20271107T090000
END:STANDARD
END:VTIMEZONE
BEGIN:VEVENT
DTSTART;TZID=America/Vancouver:20260127T124500
DTEND;TZID=America/Vancouver:20260127T133000
DTSTAMP:20260421T030239
CREATED:20260108T180032Z
LAST-MODIFIED:20260106T230236Z
UID:12252-1769517900-1769520600@tidemarktheatre.com
SUMMARY:Family Literacy Day with Kym Gouchie - Live Stream
DESCRIPTION:Celebrate Family Literacy Day with an afternoon of stories\, songs\, and connection at the Tidemark Theatre. Join JUNO nominated and Western Canadian Music Award winning artist Kym Gouchie for a joyful\, interactive performance that brings literacy\, culture\, and creativity together for the whole family. \nKym Gouchie is a multidisciplinary Indigenous artist from the Lheidli T’enneh Nation with Cree and Secwépemc ancestry. Her work blends storytelling\, music\, and visual art to support learning\, curiosity\, and community connection. As a mother\, grandmother\, and caregiver\, Kym shares stories rooted in family\, resilience\, and cultural pride\, making her performances especially meaningful for audiences of all ages. \nHer award winning album Shun Beh Nats’ujeh is widely used in classrooms across the province\, and her live shows carry that same spirit into the theatre. Through song\, spoken word\, and rhythm\, Kym invites children and caregivers to explore language\, listening\, and imagination together in a way that is fun\, accessible\, and welcoming. \nThis special Family Literacy Day presentation is offered in partnership with the Campbell River Literacy Association and School District 72 as part of a community wide celebration of reading\, storytelling\, and lifelong learning. \nThis performance is made possible in part by Theatre Angels donations. Please consider making a donation to the Theatre Angels program. \nTickets are free of charge\, we ask that you reserve your tickets in advance. \nIn person tickets are first come\, first served. Limit 4 tickets per household. Please contact the box office if you require wheelchair seating. \nLive stream tickets will be available to view for 48 hours. \nIf your tickets are not scanned in 15 minutes before the performance\, we will release your tickets to other patrons. If you were not able to get tickets ahead of time\, please come check at the Box Office on Family Literacy Day! \nEvery body that goes into the auditorium MUST have a ticket\, including infants.
URL:https://tidemarktheatre.com/event/family-literacy-day-with-kym-gouchie-live-stream/
LOCATION:Tidemark Theatre\, 1220 Shoppers Row\, Campbell River\, BC\, V9W 2C8\, Canada
CATEGORIES:Free Event,Streaming Online
ATTACH;FMTTYPE=image/jpeg:https://tidemarktheatre.com/wp-content/uploads/2025/12/Kym-Gouchie-WEB-BANNER.jpg
END:VEVENT
END:VCALENDAR